BEGIN:VCALENDAR
VERSION:2.0
PRODID:-//El Correo de Las Brujas - ECPv6.7.0//NONSGML v1.0//EN
CALSCALE:GREGORIAN
METHOD:PUBLISH
X-WR-CALNAME:El Correo de Las Brujas
X-ORIGINAL-URL:https://elcorreodelasbrujas.cl
X-WR-CALDESC:Eventos para El Correo de Las Brujas
REFRESH-INTERVAL;VALUE=DURATION:PT1H
X-Robots-Tag:noindex
X-PUBLISHED-TTL:PT1H
BEGIN:VTIMEZONE
TZID:America/Sao_Paulo
BEGIN:STANDARD
TZOFFSETFROM:-0300
TZOFFSETTO:-0300
TZNAME:-03
DTSTART:20240101T000000
END:STANDARD
END:VTIMEZONE
BEGIN:VEVENT
DTSTART;TZID=America/Sao_Paulo:20241020T110000
DTEND;TZID=America/Sao_Paulo:20241020T160000
DTSTAMP:20260421T103451
CREATED:20241023T213149Z
LAST-MODIFIED:20241023T220346Z
UID:3256-1729422000-1729440000@elcorreodelasbrujas.cl
SUMMARY:Feria de las Pulgas - Vecinos Calera de Tango
DESCRIPTION:Feria de las Pulgas – Vecinos Calera de Tango\n\n\n\n\n\n\n\n\n\nFrontis Colegio La Misión
URL:https://elcorreodelasbrujas.cl/evento/feria-de-las-pulgas-vecinos-calera-de-tango/
ATTACH;FMTTYPE=image/jpeg:https://elcorreodelasbrujas.cl/wp-content/uploads/2024/10/WhatsApp-Image-2024-10-23-at-6.30.08-PM.jpeg
END:VEVENT
END:VCALENDAR