BEGIN:VCALENDAR
VERSION:2.0
PRODID:-//El Correo de Las Brujas - ECPv6.7.0//NONSGML v1.0//EN
CALSCALE:GREGORIAN
METHOD:PUBLISH
X-ORIGINAL-URL:https://elcorreodelasbrujas.cl
X-WR-CALDESC:Eventos para El Correo de Las Brujas
REFRESH-INTERVAL;VALUE=DURATION:PT1H
X-Robots-Tag:noindex
X-PUBLISHED-TTL:PT1H
BEGIN:VTIMEZONE
TZID:America/Sao_Paulo
BEGIN:STANDARD
TZOFFSETFROM:-0300
TZOFFSETTO:-0300
TZNAME:-03
DTSTART:20240101T000000
END:STANDARD
END:VTIMEZONE
BEGIN:VEVENT
DTSTART;TZID=America/Sao_Paulo:20241025T210000
DTEND;TZID=America/Sao_Paulo:20241025T233000
DTSTAMP:20260421T092516
CREATED:20241023T201949Z
LAST-MODIFIED:20241023T202540Z
UID:3249-1729890000-1729899000@elcorreodelasbrujas.cl
SUMMARY:Trago Amargo - Tributo al Bloque Depresivo
DESCRIPTION:
URL:https://elcorreodelasbrujas.cl/evento/trago-amargo-tributo-al-bloque-depresivo/
LOCATION:Kinta Sala\, Av 21 de Mayo 1405\, Talagante
ATTACH;FMTTYPE=image/png:https://elcorreodelasbrujas.cl/wp-content/uploads/2024/10/Eventos-Brujas-5-1.png
END:VEVENT
END:VCALENDAR