BEGIN:VCALENDAR
VERSION:2.0
PRODID:-//El Correo de Las Brujas - ECPv6.7.0//NONSGML v1.0//EN
CALSCALE:GREGORIAN
METHOD:PUBLISH
X-ORIGINAL-URL:https://elcorreodelasbrujas.cl
X-WR-CALDESC:Eventos para El Correo de Las Brujas
REFRESH-INTERVAL;VALUE=DURATION:PT1H
X-Robots-Tag:noindex
X-PUBLISHED-TTL:PT1H
BEGIN:VTIMEZONE
TZID:America/Sao_Paulo
BEGIN:STANDARD
TZOFFSETFROM:-0300
TZOFFSETTO:-0300
TZNAME:-03
DTSTART:20240101T000000
END:STANDARD
END:VTIMEZONE
BEGIN:VEVENT
DTSTART;TZID=America/Sao_Paulo:20241101T210000
DTEND;TZID=America/Sao_Paulo:20241101T233000
DTSTAMP:20260421T094934
CREATED:20241021T153015Z
LAST-MODIFIED:20241021T161717Z
UID:2971-1730494800-1730503800@elcorreodelasbrujas.cl
SUMMARY:Pato Pimienta - Stand Up Comedy
DESCRIPTION:Pato Pimienta – Stand Up Comedy
URL:https://elcorreodelasbrujas.cl/evento/pato-pimienta-stand-up-comedy/
LOCATION:Kingofbar\, Miraflores 983\, Peñaflor
ATTACH;FMTTYPE=image/png:https://elcorreodelasbrujas.cl/wp-content/uploads/2024/10/Sin-titulo.png
END:VEVENT
END:VCALENDAR