BEGIN:VCALENDAR
VERSION:2.0
PRODID:-//El Correo de Las Brujas - ECPv6.7.0//NONSGML v1.0//EN
CALSCALE:GREGORIAN
METHOD:PUBLISH
X-ORIGINAL-URL:https://elcorreodelasbrujas.cl
X-WR-CALDESC:Eventos para El Correo de Las Brujas
REFRESH-INTERVAL;VALUE=DURATION:PT1H
X-Robots-Tag:noindex
X-PUBLISHED-TTL:PT1H
BEGIN:VTIMEZONE
TZID:America/Sao_Paulo
BEGIN:STANDARD
TZOFFSETFROM:-0300
TZOFFSETTO:-0300
TZNAME:-03
DTSTART:20240101T000000
END:STANDARD
END:VTIMEZONE
BEGIN:VEVENT
DTSTART;TZID=America/Sao_Paulo:20241103T000000
DTEND;TZID=America/Sao_Paulo:20241103T210000
DTSTAMP:20260421T081015
CREATED:20240926T000131Z
LAST-MODIFIED:20241022T124324Z
UID:1610-1730592000-1730667600@elcorreodelasbrujas.cl
SUMMARY:OKTOBERFEST
DESCRIPTION:Fiesta de la Cerveza – Malloco OKTOBERFEST
URL:https://elcorreodelasbrujas.cl/evento/octoberfest-4/
LOCATION:Centro de Eventos MUNICH\, Av. Balmaceda 2933\, Malloco - Comuna de Peñaflor\, Peñaflor
ATTACH;FMTTYPE=image/png:https://elcorreodelasbrujas.cl/wp-content/uploads/2024/09/Eventos-CB-1.png
END:VEVENT
END:VCALENDAR