BEGIN:VCALENDAR
VERSION:2.0
PRODID:-//El Correo de Las Brujas - ECPv6.7.0//NONSGML v1.0//EN
CALSCALE:GREGORIAN
METHOD:PUBLISH
X-ORIGINAL-URL:https://elcorreodelasbrujas.cl
X-WR-CALDESC:Eventos para El Correo de Las Brujas
REFRESH-INTERVAL;VALUE=DURATION:PT1H
X-Robots-Tag:noindex
X-PUBLISHED-TTL:PT1H
BEGIN:VTIMEZONE
TZID:America/Sao_Paulo
BEGIN:STANDARD
TZOFFSETFROM:-0300
TZOFFSETTO:-0300
TZNAME:-03
DTSTART:20240101T000000
END:STANDARD
END:VTIMEZONE
BEGIN:VEVENT
DTSTART;TZID=America/Sao_Paulo:20241109T100000
DTEND;TZID=America/Sao_Paulo:20241109T220000
DTSTAMP:20260421T092528
CREATED:20241106T230010Z
LAST-MODIFIED:20241106T230039Z
UID:3686-1731146400-1731189600@elcorreodelasbrujas.cl
SUMMARY:Peñaflor Apoya la Teletón
DESCRIPTION:Peñaflor Apoya la Teletón\n\n\n\n\n\n\n\nPlaza de Peñaflor
URL:https://elcorreodelasbrujas.cl/evento/penaflor-apoya-la-teleton/
ATTACH;FMTTYPE=image/png:https://elcorreodelasbrujas.cl/wp-content/uploads/2024/11/4-10-Noviembre-2.png
END:VEVENT
BEGIN:VEVENT
DTSTART;TZID=America/Sao_Paulo:20241109T110000
DTEND;TZID=America/Sao_Paulo:20241109T190000
DTSTAMP:20260421T092528
CREATED:20241031T001226Z
LAST-MODIFIED:20241031T001229Z
UID:3631-1731150000-1731178800@elcorreodelasbrujas.cl
SUMMARY:Actividades TELETÓN - Calera de Tango
DESCRIPTION:Actividades TELETÓN – Calera de Tango
URL:https://elcorreodelasbrujas.cl/evento/actividades-teleton-calera-de-tango-2/
LOCATION:Estadio Los Bajos\, Calera de Tango Paradero 13
ATTACH;FMTTYPE=image/png:https://elcorreodelasbrujas.cl/wp-content/uploads/2024/10/Eventos-Brujas12.png
END:VEVENT
BEGIN:VEVENT
DTSTART;TZID=America/Sao_Paulo:20241109T110000
DTEND;TZID=America/Sao_Paulo:20241109T210000
DTSTAMP:20260421T092528
CREATED:20241027T190737Z
LAST-MODIFIED:20241027T191118Z
UID:3410-1731150000-1731186000@elcorreodelasbrujas.cl
SUMMARY:SHOW TELETÓN
DESCRIPTION:SHOW TELETÓN Talagante no se queda atrás\n\n\n\nDesde las 11:00 hasta las 21:00 horas para disfrutar de un gran show artístico\, deportivo y familiar. Habrá presentaciones de bandas locales\, sesiones de zumba y espacios pensados para niños\, niñas\, adultos mayores y jóvenes. \n\n\n\nAdemás\, tendremos una caja auxiliar del Banco de Chile para que puedas realizar tus donaciones y ser parte de esta gran causa.
URL:https://elcorreodelasbrujas.cl/evento/show-teleton/
LOCATION:Plaza de Armas de Talagante\, Av Lib\, Bernardo O'Higgins 1130\, Talagante\, Santiago
ATTACH;FMTTYPE=image/png:https://elcorreodelasbrujas.cl/wp-content/uploads/2024/10/Eventos-Brujas-8.png
END:VEVENT
BEGIN:VEVENT
DTSTART;TZID=America/Sao_Paulo:20241109T120000
DTEND;TZID=America/Sao_Paulo:20241109T183000
DTSTAMP:20260421T092528
CREATED:20241106T221502Z
LAST-MODIFIED:20241106T221539Z
UID:3663-1731153600-1731177000@elcorreodelasbrujas.cl
SUMMARY:Mercadito TerraMater
DESCRIPTION:Mercadito TerraMater \n\n\n\nEste 9 y 10 de Noviembre ven a disfrutar una nueva edición con emprendedores y productores de la zona con: \n\n\n\nArtesanías | Panadería francesa | Quesos | Charcutería | Mermeladas | Chocolates | Degustaciones de nuestros vinos y mucho más! 🧀🍷🍞
URL:https://elcorreodelasbrujas.cl/evento/mercadito-terramater/
LOCATION:ViñaTerra Mater\, Avenida Balmaceda #4900.\, Isla de Maipo
ATTACH;FMTTYPE=image/png:https://elcorreodelasbrujas.cl/wp-content/uploads/2024/11/4-10-Noviembre.png
END:VEVENT
BEGIN:VEVENT
DTSTART;TZID=America/Sao_Paulo:20241109T180000
DTEND;TZID=America/Sao_Paulo:20241109T210000
DTSTAMP:20260421T092528
CREATED:20241030T171049Z
LAST-MODIFIED:20241030T171117Z
UID:3597-1731175200-1731186000@elcorreodelasbrujas.cl
SUMMARY:Bingo Solidario a Beneficio de Lucas Norman
DESCRIPTION:Bingo Solidario a Beneficio de Lucas Norman
URL:https://elcorreodelasbrujas.cl/evento/bingo-solidario-a-beneficio-de-lucas-norman/
LOCATION:Centro de Eventos MUNICH\, Av. Balmaceda 2933\, Malloco - Comuna de Peñaflor\, Peñaflor
ATTACH;FMTTYPE=image/jpeg:https://elcorreodelasbrujas.cl/wp-content/uploads/2024/10/WhatsApp-Image-2024-10-30-at-2.08.27-PM.jpeg
END:VEVENT
BEGIN:VEVENT
DTSTART;TZID=America/Sao_Paulo:20241109T180000
DTEND;TZID=America/Sao_Paulo:20241109T210000
DTSTAMP:20260421T092528
CREATED:20241106T223150Z
LAST-MODIFIED:20241106T223215Z
UID:3669-1731175200-1731186000@elcorreodelasbrujas.cl
SUMMARY:Expo Miraflores
DESCRIPTION:Plaza de Miraflores con Rodolfo Zahlhaas\, Valles de Peñaflor
URL:https://elcorreodelasbrujas.cl/evento/expo-miraflores/
ATTACH;FMTTYPE=image/jpeg:https://elcorreodelasbrujas.cl/wp-content/uploads/2024/11/WhatsApp-Image-2024-11-06-at-3.12.56-PM.jpeg
END:VEVENT
BEGIN:VEVENT
DTSTART;TZID=America/Sao_Paulo:20241109T190000
DTEND;TZID=America/Sao_Paulo:20241109T233000
DTSTAMP:20260421T092528
CREATED:20241106T225116Z
LAST-MODIFIED:20241106T225330Z
UID:3677-1731178800-1731195000@elcorreodelasbrujas.cl
SUMMARY:Club Monalisa en Pasaporte
DESCRIPTION:Club Monalisa en Pasaporte\n\n\n\nKaraoke\, Animación\, Concursos\, Glitter Bar\, Artista Invitada y más
URL:https://elcorreodelasbrujas.cl/evento/club-monalisa-en-pasaporte/
LOCATION:Pasaporte\, Avenida Balmaceda #1940\, Malloco - Peñaflor
ATTACH;FMTTYPE=image/png:https://elcorreodelasbrujas.cl/wp-content/uploads/2024/11/4-10-Noviembre-ok.png
END:VEVENT
BEGIN:VEVENT
DTSTART;TZID=America/Sao_Paulo:20241109T210000
DTEND;TZID=America/Sao_Paulo:20241109T233000
DTSTAMP:20260421T092528
CREATED:20241023T164803Z
LAST-MODIFIED:20241030T171614Z
UID:3206-1731186000-1731195000@elcorreodelasbrujas.cl
SUMMARY:Carin León - Doble Oficial
DESCRIPTION:Carin León – Doble Oficial
URL:https://elcorreodelasbrujas.cl/evento/carin-leon-doble-oficial/
LOCATION:Kinta Sala\, Av 21 de Mayo 1405\, Talagante
ATTACH;FMTTYPE=image/png:https://elcorreodelasbrujas.cl/wp-content/uploads/2024/10/Eventos-Brujas-5.png
END:VEVENT
END:VCALENDAR