BEGIN:VCALENDAR
VERSION:2.0
PRODID:-//El Correo de Las Brujas - ECPv6.7.0//NONSGML v1.0//EN
CALSCALE:GREGORIAN
METHOD:PUBLISH
X-WR-CALNAME:El Correo de Las Brujas
X-ORIGINAL-URL:https://elcorreodelasbrujas.cl
X-WR-CALDESC:Eventos para El Correo de Las Brujas
REFRESH-INTERVAL;VALUE=DURATION:PT1H
X-Robots-Tag:noindex
X-PUBLISHED-TTL:PT1H
BEGIN:VTIMEZONE
TZID:America/Sao_Paulo
BEGIN:STANDARD
TZOFFSETFROM:-0300
TZOFFSETTO:-0300
TZNAME:-03
DTSTART:20240101T000000
END:STANDARD
END:VTIMEZONE
BEGIN:VEVENT
DTSTART;TZID=America/Sao_Paulo:20241110T090000
DTEND;TZID=America/Sao_Paulo:20241110T140000
DTSTAMP:20260421T092230
CREATED:20241021T224230Z
LAST-MODIFIED:20241022T124441Z
UID:3027-1731229200-1731247200@elcorreodelasbrujas.cl
SUMMARY:Expo Autos Antiguos 23° Versión
DESCRIPTION:Expo Autos Antiguos 23° Versión\n\n\n\n\n\n\n\n\n\nPlaza de Armas de Talagante
URL:https://elcorreodelasbrujas.cl/evento/expo-autos-antiguos-23-version/
ATTACH;FMTTYPE=image/png:https://elcorreodelasbrujas.cl/wp-content/uploads/2024/10/Eventos-Brujas-1.png
END:VEVENT
BEGIN:VEVENT
DTSTART;TZID=America/Sao_Paulo:20241110T120000
DTEND;TZID=America/Sao_Paulo:20241110T183000
DTSTAMP:20260421T092230
CREATED:20241106T222003Z
LAST-MODIFIED:20241106T222005Z
UID:3667-1731240000-1731263400@elcorreodelasbrujas.cl
SUMMARY:Mercadito TerraMater
DESCRIPTION:Mercadito TerraMater \n\n\n\nEste 9 y 10 de Noviembre ven a disfrutar una nueva edición con emprendedores y productores de la zona con: \n\n\n\nArtesanías | Panadería francesa | Quesos | Charcutería | Mermeladas | Chocolates | Degustaciones de nuestros vinos y mucho más! 🧀🍷🍞
URL:https://elcorreodelasbrujas.cl/evento/mercadito-terramater-2/
LOCATION:ViñaTerra Mater\, Avenida Balmaceda #4900.\, Isla de Maipo
ATTACH;FMTTYPE=image/png:https://elcorreodelasbrujas.cl/wp-content/uploads/2024/11/4-10-Noviembre.png
END:VEVENT
BEGIN:VEVENT
DTSTART;TZID=America/Sao_Paulo:20241110T180000
DTEND;TZID=America/Sao_Paulo:20241110T210000
DTSTAMP:20260421T092230
CREATED:20241106T223703Z
LAST-MODIFIED:20241106T223813Z
UID:3673-1731261600-1731272400@elcorreodelasbrujas.cl
SUMMARY:Expo Miraflores
DESCRIPTION:Expo Miraflores\n\n\n\n \n\n\n\n\n\n\n\nPlaza de Miraflores con Rodolfo Zahlhaas\,Valles de Peñaflor
URL:https://elcorreodelasbrujas.cl/evento/expo-miraflores-2/
ATTACH;FMTTYPE=image/jpeg:https://elcorreodelasbrujas.cl/wp-content/uploads/2024/11/WhatsApp-Image-2024-11-06-at-3.12.56-PM.jpeg
END:VEVENT
END:VCALENDAR