BEGIN:VCALENDAR
VERSION:2.0
PRODID:-//El Correo de Las Brujas - ECPv6.7.0//NONSGML v1.0//EN
CALSCALE:GREGORIAN
METHOD:PUBLISH
X-ORIGINAL-URL:https://elcorreodelasbrujas.cl
X-WR-CALDESC:Eventos para El Correo de Las Brujas
REFRESH-INTERVAL;VALUE=DURATION:PT1H
X-Robots-Tag:noindex
X-PUBLISHED-TTL:PT1H
BEGIN:VTIMEZONE
TZID:America/Sao_Paulo
BEGIN:STANDARD
TZOFFSETFROM:-0300
TZOFFSETTO:-0300
TZNAME:-03
DTSTART:20240101T000000
END:STANDARD
END:VTIMEZONE
BEGIN:VEVENT
DTSTART;TZID=America/Sao_Paulo:20241113T080000
DTEND;TZID=America/Sao_Paulo:20241113T083000
DTSTAMP:20260421T081012
CREATED:20241113T171344Z
LAST-MODIFIED:20241113T171346Z
UID:3741-1731484800-1731486600@elcorreodelasbrujas.cl
SUMMARY:Gala artística Coro de Adultos Mayores Voces de Júbilo
DESCRIPTION:Gala artística Coro de Adultos Mayores Voces de Júbilo
URL:https://elcorreodelasbrujas.cl/evento/gala-artistica-coro-de-adultos-mayores-voces-de-jubilo/
LOCATION:Casa de la Cultura de Talagante\, Av. Bernardo O'Higgins 3201
ATTACH;FMTTYPE=image/png:https://elcorreodelasbrujas.cl/wp-content/uploads/2024/11/12-AL-17-NOV-1.png
END:VEVENT
END:VCALENDAR