BEGIN:VCALENDAR
VERSION:2.0
PRODID:-//El Correo de Las Brujas - ECPv6.7.0//NONSGML v1.0//EN
CALSCALE:GREGORIAN
METHOD:PUBLISH
X-WR-CALNAME:El Correo de Las Brujas
X-ORIGINAL-URL:https://elcorreodelasbrujas.cl
X-WR-CALDESC:Eventos para El Correo de Las Brujas
REFRESH-INTERVAL;VALUE=DURATION:PT1H
X-Robots-Tag:noindex
X-PUBLISHED-TTL:PT1H
BEGIN:VTIMEZONE
TZID:America/Sao_Paulo
BEGIN:STANDARD
TZOFFSETFROM:-0300
TZOFFSETTO:-0300
TZNAME:-03
DTSTART:20240101T000000
END:STANDARD
END:VTIMEZONE
BEGIN:VEVENT
DTSTART;TZID=America/Sao_Paulo:20241116T090000
DTEND;TZID=America/Sao_Paulo:20241116T170000
DTSTAMP:20260421T092228
CREATED:20241113T173127Z
LAST-MODIFIED:20241113T173338Z
UID:3751-1731747600-1731776400@elcorreodelasbrujas.cl
SUMMARY:1° Corrida Escolar Familiar de Calera de Tango
DESCRIPTION:1° Corrida Escolar Familiar de Calera de Tango\n\n\n\n\n\n\n\nCalera de tango Paradero 5
URL:https://elcorreodelasbrujas.cl/evento/1-corrida-escolar-familiar-de-calera-de-tango/
ATTACH;FMTTYPE=image/png:https://elcorreodelasbrujas.cl/wp-content/uploads/2024/11/12-AL-17-NOV-3.png
END:VEVENT
BEGIN:VEVENT
DTSTART;TZID=America/Sao_Paulo:20241116T140000
DTEND;TZID=America/Sao_Paulo:20241116T193000
DTSTAMP:20260421T092228
CREATED:20241114T213600Z
LAST-MODIFIED:20241114T213602Z
UID:3775-1731765600-1731785400@elcorreodelasbrujas.cl
SUMMARY:Gran Expo Familiar
DESCRIPTION:Feria Emprendedores Gran Expo Familiar
URL:https://elcorreodelasbrujas.cl/evento/gran-expo-familiar/
LOCATION:Lucas Pacheco\, Lucas Pacheco 25\, Talagante
ATTACH;FMTTYPE=image/jpeg:https://elcorreodelasbrujas.cl/wp-content/uploads/2024/11/Imagen-de-WhatsApp-2024-11-13-a-las-15.04.14_2e4f6da3.jpg
END:VEVENT
BEGIN:VEVENT
DTSTART;TZID=America/Sao_Paulo:20241116T170000
DTEND;TZID=America/Sao_Paulo:20241116T220000
DTSTAMP:20260421T092228
CREATED:20241113T172225Z
LAST-MODIFIED:20241113T172228Z
UID:3747-1731776400-1731794400@elcorreodelasbrujas.cl
SUMMARY:Bingo Beneficio LBT
DESCRIPTION:Bingo Beneficio LBT
URL:https://elcorreodelasbrujas.cl/evento/bingo-beneficio-lbt/
LOCATION:Liceo Bicentenario Talagante\, Camino Viejo 1961 talagante
ATTACH;FMTTYPE=image/png:https://elcorreodelasbrujas.cl/wp-content/uploads/2024/11/12-AL-17-NOV-2.png
END:VEVENT
BEGIN:VEVENT
DTSTART;TZID=America/Sao_Paulo:20241116T210000
DTEND;TZID=America/Sao_Paulo:20241116T233000
DTSTAMP:20260421T092228
CREATED:20241114T214717Z
LAST-MODIFIED:20241114T214736Z
UID:3780-1731790800-1731799800@elcorreodelasbrujas.cl
SUMMARY:The Brujos Band
DESCRIPTION:Los mejores éxitos del Rock Latino y Anglo.
URL:https://elcorreodelasbrujas.cl/evento/the-brujos-band/
LOCATION:Kinta Sala\, Av 21 de Mayo 1405\, Talagante
ATTACH;FMTTYPE=image/png:https://elcorreodelasbrujas.cl/wp-content/uploads/2024/11/12-AL-17-NOV-4.png
END:VEVENT
END:VCALENDAR