BEGIN:VCALENDAR
VERSION:2.0
PRODID:-//El Correo de Las Brujas - ECPv6.7.0//NONSGML v1.0//EN
CALSCALE:GREGORIAN
METHOD:PUBLISH
X-WR-CALNAME:El Correo de Las Brujas
X-ORIGINAL-URL:https://elcorreodelasbrujas.cl
X-WR-CALDESC:Eventos para El Correo de Las Brujas
REFRESH-INTERVAL;VALUE=DURATION:PT1H
X-Robots-Tag:noindex
X-PUBLISHED-TTL:PT1H
BEGIN:VTIMEZONE
TZID:America/Sao_Paulo
BEGIN:STANDARD
TZOFFSETFROM:-0300
TZOFFSETTO:-0300
TZNAME:-03
DTSTART:20240101T000000
END:STANDARD
END:VTIMEZONE
BEGIN:VEVENT
DTSTART;TZID=America/Sao_Paulo:20241123T120000
DTEND;TZID=America/Sao_Paulo:20241123T190000
DTSTAMP:20260421T092322
CREATED:20241120T234115Z
LAST-MODIFIED:20241121T002548Z
UID:3803-1732363200-1732388400@elcorreodelasbrujas.cl
SUMMARY:Feria Anime y Cosplay Bakufest
DESCRIPTION:Feria Anime y Cosplay Bakufest
URL:https://elcorreodelasbrujas.cl/evento/feria-anime-y-cosplay-bakufest/
LOCATION:Plaza de Armas de Talagante\, Av Lib\, Bernardo O'Higgins 1130\, Talagante\, Santiago
ATTACH;FMTTYPE=image/png:https://elcorreodelasbrujas.cl/wp-content/uploads/2024/11/18-AL-24-NOV-2-1.png
END:VEVENT
BEGIN:VEVENT
DTSTART;TZID=America/Sao_Paulo:20241123T190000
DTEND;TZID=America/Sao_Paulo:20241123T210000
DTSTAMP:20260421T092322
CREATED:20241120T235052Z
LAST-MODIFIED:20241121T002725Z
UID:3808-1732388400-1732395600@elcorreodelasbrujas.cl
SUMMARY:7ª Gala de la agrupación de música y danza\, 21 Sueños Down.
DESCRIPTION:7ª Gala de la agrupación de música y danza\, Veintiún Sueños Down.
URL:https://elcorreodelasbrujas.cl/evento/7a-gala-de-la-agrupacion-de-musica-y-danza-21-suenos-down/
LOCATION:Casa de la Cultura de Talagante\, Av. Bernardo O'Higgins 3201
ATTACH;FMTTYPE=image/png:https://elcorreodelasbrujas.cl/wp-content/uploads/2024/11/18-AL-24-NOV-3-1.png
END:VEVENT
BEGIN:VEVENT
DTSTART;TZID=America/Sao_Paulo:20241123T193000
DTEND;TZID=America/Sao_Paulo:20241123T223000
DTSTAMP:20260421T092322
CREATED:20241030T173711Z
LAST-MODIFIED:20241030T174636Z
UID:3600-1732390200-1732401000@elcorreodelasbrujas.cl
SUMMARY:Tributo a The Beatles - Terra Mater Music Fest
DESCRIPTION:Tributo a The Beatles – Terra Mater Music Fest
URL:https://elcorreodelasbrujas.cl/evento/tributo-a-the-beatles-terra-mater-music-fest/
LOCATION:ViñaTerra Mater\, Avenida Balmaceda #4900.\, Isla de Maipo
ATTACH;FMTTYPE=image/png:https://elcorreodelasbrujas.cl/wp-content/uploads/2024/10/Eventos-Brujas-11.png
END:VEVENT
BEGIN:VEVENT
DTSTART;TZID=America/Sao_Paulo:20241123T213000
DTEND;TZID=America/Sao_Paulo:20241123T233000
DTSTAMP:20260421T092322
CREATED:20241113T165132Z
LAST-MODIFIED:20241113T165318Z
UID:3730-1732397400-1732404600@elcorreodelasbrujas.cl
SUMMARY:Cerati y Soda - Tributo
DESCRIPTION:Tributo a Soda y el maestro Gustavo Cerati!
URL:https://elcorreodelasbrujas.cl/evento/cerati-y-soda-tributo/
LOCATION:Club Demonio\, Peñaflor\, Av Larrain 3157
ATTACH;FMTTYPE=image/png:https://elcorreodelasbrujas.cl/wp-content/uploads/2024/11/18-AL-24-NOV.png
END:VEVENT
BEGIN:VEVENT
DTSTART;TZID=America/Sao_Paulo:20241123T213000
DTEND;TZID=America/Sao_Paulo:20241123T233000
DTSTAMP:20260421T092322
CREATED:20241120T230306Z
LAST-MODIFIED:20241120T230838Z
UID:3789-1732397400-1732404600@elcorreodelasbrujas.cl
SUMMARY:Fabián y los bandoleros del corazón
DESCRIPTION:Fabián y los bandoleros del corazón \n\n\n\nuna noche cargada de cumbia ranchera y tropical para vivir la mejor de las fiestas bailables
URL:https://elcorreodelasbrujas.cl/evento/fabian-y-los-bandoleros-del-corazon/
LOCATION:Kinta Sala\, Av 21 de Mayo 1405\, Talagante
ATTACH;FMTTYPE=image/png:https://elcorreodelasbrujas.cl/wp-content/uploads/2024/11/18-AL-24-NOV-2.png
END:VEVENT
END:VCALENDAR