BEGIN:VCALENDAR
VERSION:2.0
PRODID:-//El Correo de Las Brujas - ECPv6.7.0//NONSGML v1.0//EN
CALSCALE:GREGORIAN
METHOD:PUBLISH
X-ORIGINAL-URL:https://elcorreodelasbrujas.cl
X-WR-CALDESC:Eventos para El Correo de Las Brujas
REFRESH-INTERVAL;VALUE=DURATION:PT1H
X-Robots-Tag:noindex
X-PUBLISHED-TTL:PT1H
BEGIN:VTIMEZONE
TZID:America/Sao_Paulo
BEGIN:STANDARD
TZOFFSETFROM:-0300
TZOFFSETTO:-0300
TZNAME:-03
DTSTART:20240101T000000
END:STANDARD
END:VTIMEZONE
BEGIN:VEVENT
DTSTART;TZID=America/Sao_Paulo:20241128T193000
DTEND;TZID=America/Sao_Paulo:20241128T193000
DTSTAMP:20260421T065418
CREATED:20241128T125519Z
LAST-MODIFIED:20241128T175114Z
UID:3969-1732822200-1732822200@elcorreodelasbrujas.cl
SUMMARY:Festival de Cortometrajes
DESCRIPTION:Festival de Cortometrajes
URL:https://elcorreodelasbrujas.cl/evento/festival-de-cortometrajes/
LOCATION:Espacio Peñaflor\, Irarrázabal 085\, Peñaflor\, Chile
ATTACH;FMTTYPE=image/png:https://elcorreodelasbrujas.cl/wp-content/uploads/2024/11/2-1.png
END:VEVENT
BEGIN:VEVENT
DTSTART;TZID=America/Sao_Paulo:20241128T193000
DTEND;TZID=America/Sao_Paulo:20241128T233000
DTSTAMP:20260421T065418
CREATED:20241031T004309Z
LAST-MODIFIED:20241128T222351Z
UID:3649-1732822200-1732836600@elcorreodelasbrujas.cl
SUMMARY:Momia Cul...¿y que? Paty Maldonado
DESCRIPTION:Momia Cul…¿y que? Paty Maldonado
URL:https://elcorreodelasbrujas.cl/evento/momia-cul-y-que-paty-maldonado/
LOCATION:Ottofritz Restobar\, Av. Caupolicán 3461 \, Peñaflor
ATTACH;FMTTYPE=image/png:https://elcorreodelasbrujas.cl/wp-content/uploads/2024/11/3-1.png
END:VEVENT
END:VCALENDAR