BEGIN:VCALENDAR
VERSION:2.0
PRODID:-//El Correo de Las Brujas - ECPv6.7.0//NONSGML v1.0//EN
CALSCALE:GREGORIAN
METHOD:PUBLISH
X-WR-CALNAME:El Correo de Las Brujas
X-ORIGINAL-URL:https://elcorreodelasbrujas.cl
X-WR-CALDESC:Eventos para El Correo de Las Brujas
REFRESH-INTERVAL;VALUE=DURATION:PT1H
X-Robots-Tag:noindex
X-PUBLISHED-TTL:PT1H
BEGIN:VTIMEZONE
TZID:America/Sao_Paulo
BEGIN:STANDARD
TZOFFSETFROM:-0300
TZOFFSETTO:-0300
TZNAME:-03
DTSTART:20240101T000000
END:STANDARD
END:VTIMEZONE
BEGIN:VEVENT
DTSTART;TZID=America/Sao_Paulo:20241201T093000
DTEND;TZID=America/Sao_Paulo:20241201T093000
DTSTAMP:20260421T065118
CREATED:20241128T122837Z
LAST-MODIFIED:20241128T175323Z
UID:3966-1733045400-1733045400@elcorreodelasbrujas.cl
SUMMARY:Cicletada Familiar
DESCRIPTION:Cicletada Familiar\n\n\n\n\n\n\n\nPlaza de Armas de Talagante
URL:https://elcorreodelasbrujas.cl/evento/cicletada-familiar/
ATTACH;FMTTYPE=image/png:https://elcorreodelasbrujas.cl/wp-content/uploads/2024/11/22.png
END:VEVENT
BEGIN:VEVENT
DTSTART;TZID=America/Sao_Paulo:20241201T110000
DTEND;TZID=America/Sao_Paulo:20241201T160000
DTSTAMP:20260421T065118
CREATED:20241128T194720Z
LAST-MODIFIED:20241128T194758Z
UID:4006-1733050800-1733068800@elcorreodelasbrujas.cl
SUMMARY:Feria de Las Pulgas Calera de Tango
DESCRIPTION:Feria de Las Pulgas Calera de Tango\n\n\n\n\n\n\n\nFrontis Colegio La Misión
URL:https://elcorreodelasbrujas.cl/evento/feria-de-las-pulgas-calera-de-tango/
ATTACH;FMTTYPE=image/png:https://elcorreodelasbrujas.cl/wp-content/uploads/2024/11/23.png
END:VEVENT
BEGIN:VEVENT
DTSTART;TZID=America/Sao_Paulo:20241201T110000
DTEND;TZID=America/Sao_Paulo:20241201T200000
DTSTAMP:20260421T065118
CREATED:20241121T005513Z
LAST-MODIFIED:20241121T005516Z
UID:3823-1733050800-1733083200@elcorreodelasbrujas.cl
SUMMARY:Mercado Navideño Peñaflor
DESCRIPTION:Mercado Navideño Peñaflor
URL:https://elcorreodelasbrujas.cl/evento/mercado-navideno-penaflor/
LOCATION:Espacio Nogales\, Avenida peñaflor n°5 Espacio Nogales
ATTACH;FMTTYPE=image/jpeg:https://elcorreodelasbrujas.cl/wp-content/uploads/2024/11/Imagen-de-WhatsApp-2024-11-14-a-las-18.44.28_da539ef4.jpg
END:VEVENT
END:VCALENDAR