BEGIN:VCALENDAR
VERSION:2.0
PRODID:-//El Correo de Las Brujas - ECPv6.7.0//NONSGML v1.0//EN
CALSCALE:GREGORIAN
METHOD:PUBLISH
X-WR-CALNAME:El Correo de Las Brujas
X-ORIGINAL-URL:https://elcorreodelasbrujas.cl
X-WR-CALDESC:Eventos para El Correo de Las Brujas
REFRESH-INTERVAL;VALUE=DURATION:PT1H
X-Robots-Tag:noindex
X-PUBLISHED-TTL:PT1H
BEGIN:VTIMEZONE
TZID:America/Sao_Paulo
BEGIN:STANDARD
TZOFFSETFROM:-0300
TZOFFSETTO:-0300
TZNAME:-03
DTSTART:20240101T000000
END:STANDARD
END:VTIMEZONE
BEGIN:VEVENT
DTSTART;TZID=America/Sao_Paulo:20241206T160000
DTEND;TZID=America/Sao_Paulo:20241206T160000
DTSTAMP:20260421T065119
CREATED:20241205T154833Z
LAST-MODIFIED:20241205T181413Z
UID:4092-1733500800-1733500800@elcorreodelasbrujas.cl
SUMMARY:Plaza Joven
DESCRIPTION:Plaza Joven – 1er Aniversario\n\n\n\n\n\n\n\nPlaza de Central Isla de Maipo
URL:https://elcorreodelasbrujas.cl/evento/plaza-joven/
ATTACH;FMTTYPE=image/png:https://elcorreodelasbrujas.cl/wp-content/uploads/2024/12/imagen-6.png
END:VEVENT
BEGIN:VEVENT
DTSTART;TZID=America/Sao_Paulo:20241206T210000
DTEND;TZID=America/Sao_Paulo:20241206T233000
DTSTAMP:20260421T065119
CREATED:20241120T232350Z
LAST-MODIFIED:20241120T232531Z
UID:3799-1733518800-1733527800@elcorreodelasbrujas.cl
SUMMARY:Tributo a Elvis Presley
DESCRIPTION:Tributo a Elvis Presley\n\n\n\nLos mejores éxitos de legendario cantante y actor Estadounidense Elvis Presley. Todo esto a cargo del gran Pedro Ortiz
URL:https://elcorreodelasbrujas.cl/evento/tributo-a-elvis-presley/
LOCATION:Kinta Sala\, Av 21 de Mayo 1405\, Talagante
ATTACH;FMTTYPE=image/png:https://elcorreodelasbrujas.cl/wp-content/uploads/2024/11/18-AL-24-NOV-1.png
END:VEVENT
END:VCALENDAR