BEGIN:VCALENDAR
VERSION:2.0
PRODID:-//El Correo de Las Brujas - ECPv6.7.0//NONSGML v1.0//EN
CALSCALE:GREGORIAN
METHOD:PUBLISH
X-WR-CALNAME:El Correo de Las Brujas
X-ORIGINAL-URL:https://elcorreodelasbrujas.cl
X-WR-CALDESC:Eventos para El Correo de Las Brujas
REFRESH-INTERVAL;VALUE=DURATION:PT1H
X-Robots-Tag:noindex
X-PUBLISHED-TTL:PT1H
BEGIN:VTIMEZONE
TZID:America/Sao_Paulo
BEGIN:STANDARD
TZOFFSETFROM:-0300
TZOFFSETTO:-0300
TZNAME:-03
DTSTART:20240101T000000
END:STANDARD
END:VTIMEZONE
BEGIN:VEVENT
DTSTART;TZID=America/Sao_Paulo:20241207T110000
DTEND;TZID=America/Sao_Paulo:20241207T110000
DTSTAMP:20260421T065115
CREATED:20241205T163805Z
LAST-MODIFIED:20241205T182346Z
UID:4104-1733569200-1733569200@elcorreodelasbrujas.cl
SUMMARY:Showroom Miraflores
DESCRIPTION:Showroom Miraflores\n\n\n\n\n\nPlaza de Miraflores con Rodolfo Zahlhaas\,Valles de Peñaflor
URL:https://elcorreodelasbrujas.cl/evento/showroom-miraflores/
ATTACH;FMTTYPE=image/png:https://elcorreodelasbrujas.cl/wp-content/uploads/2024/12/imagen-7.png
END:VEVENT
BEGIN:VEVENT
DTSTART;TZID=America/Sao_Paulo:20241207T120000
DTEND;TZID=America/Sao_Paulo:20241207T180000
DTSTAMP:20260421T065115
CREATED:20241205T175924Z
LAST-MODIFIED:20241205T180331Z
UID:4118-1733572800-1733594400@elcorreodelasbrujas.cl
SUMMARY:Mercadito Terra Matter
DESCRIPTION:Mercadito Terra Matter\n\n\n\nEmprendedores de la zona con los más auténticos regalos para esta Navidad
URL:https://elcorreodelasbrujas.cl/evento/mercadito-terra-matter/
LOCATION:ViñaTerra Mater\, Avenida Balmaceda #4900.\, Isla de Maipo
ATTACH;FMTTYPE=image/png:https://elcorreodelasbrujas.cl/wp-content/uploads/2024/12/imagen-4.png
END:VEVENT
BEGIN:VEVENT
DTSTART;TZID=America/Sao_Paulo:20241207T180000
DTEND;TZID=America/Sao_Paulo:20241207T200000
DTSTAMP:20260421T065115
CREATED:20241128T145305Z
LAST-MODIFIED:20241128T222043Z
UID:3983-1733594400-1733601600@elcorreodelasbrujas.cl
SUMMARY:Elvira Cacica de Talagante
DESCRIPTION:Elvira Cacica de Talagante
URL:https://elcorreodelasbrujas.cl/evento/elvira-cacica-de-talagante/
LOCATION:Casa de la Cultura de Talagante\, Av. Bernardo O'Higgins 3201
ATTACH;FMTTYPE=image/png:https://elcorreodelasbrujas.cl/wp-content/uploads/2024/11/dIC-8-.png
END:VEVENT
BEGIN:VEVENT
DTSTART;TZID=America/Sao_Paulo:20241207T190000
DTEND;TZID=America/Sao_Paulo:20241207T190000
DTSTAMP:20260421T065115
CREATED:20241127T230917Z
LAST-MODIFIED:20241128T223237Z
UID:3913-1733598000-1733598000@elcorreodelasbrujas.cl
SUMMARY:Bingo Axel y Hans
DESCRIPTION:A Beneficio de los Mellizos de 4 años que necesitan ser operados de Urgencia
URL:https://elcorreodelasbrujas.cl/evento/bingo-axel-y-hans/
LOCATION:Don Benito\, Calera de Tango Paradero 18
ATTACH;FMTTYPE=image/jpeg:https://elcorreodelasbrujas.cl/wp-content/uploads/2024/11/WhatsApp-Image-2024-11-25-at-8.05.06-PM.jpeg
END:VEVENT
BEGIN:VEVENT
DTSTART;TZID=America/Sao_Paulo:20241207T193000
DTEND;TZID=America/Sao_Paulo:20241207T220000
DTSTAMP:20260421T065115
CREATED:20241205T161448Z
LAST-MODIFIED:20241205T170423Z
UID:4097-1733599800-1733608800@elcorreodelasbrujas.cl
SUMMARY:Natalino celebra los 187 años de Talagante
DESCRIPTION:Natalino celebra los 187 años de Talagante – Encendido del Árbol de Navidad \n\n\n\n\n\n\n\nPlaza de Armas de Talagante
URL:https://elcorreodelasbrujas.cl/evento/natalino-celebra-los-187-anos-de-talagante/
ATTACH;FMTTYPE=image/png:https://elcorreodelasbrujas.cl/wp-content/uploads/2024/12/imagen-1.png
END:VEVENT
BEGIN:VEVENT
DTSTART;TZID=America/Sao_Paulo:20241207T210000
DTEND;TZID=America/Sao_Paulo:20241207T210000
DTSTAMP:20260421T065115
CREATED:20241128T215023Z
LAST-MODIFIED:20241128T225105Z
UID:4033-1733605200-1733605200@elcorreodelasbrujas.cl
SUMMARY:Santo Remedio
DESCRIPTION:Santo Remedio
URL:https://elcorreodelasbrujas.cl/evento/santo-remedio/
LOCATION:Kinta Sala\, Av 21 de Mayo 1405\, Talagante
ATTACH;FMTTYPE=image/png:https://elcorreodelasbrujas.cl/wp-content/uploads/2024/11/dIC-8-1-1.png
END:VEVENT
BEGIN:VEVENT
DTSTART;TZID=America/Sao_Paulo:20241207T210000
DTEND;TZID=America/Sao_Paulo:20241207T233000
DTSTAMP:20260421T065115
CREATED:20241205T181040Z
LAST-MODIFIED:20241205T182621Z
UID:4127-1733605200-1733614200@elcorreodelasbrujas.cl
SUMMARY:Tributo en vivo a JESSI URIBE
DESCRIPTION:Tributo en vivo a JESSI URIBE
URL:https://elcorreodelasbrujas.cl/evento/tributo-en-vivo-a-jessi-uribe/
LOCATION:Kingofbar\, Miraflores 983\, Peñaflor
ATTACH;FMTTYPE=image/png:https://elcorreodelasbrujas.cl/wp-content/uploads/2024/12/imagen-5.png
END:VEVENT
BEGIN:VEVENT
DTSTART;TZID=America/Sao_Paulo:20241207T213000
DTEND;TZID=America/Sao_Paulo:20241207T233000
DTSTAMP:20260421T065115
CREATED:20241120T235958Z
LAST-MODIFIED:20241205T180458Z
UID:3814-1733607000-1733614200@elcorreodelasbrujas.cl
SUMMARY:Dublin 2 y Yellow
DESCRIPTION:Show doble Tributo a U2 y Tributo a Coldplay
URL:https://elcorreodelasbrujas.cl/evento/dublin-2-y-yellow/
LOCATION:Pasaporte\, Avenida Balmaceda #1940\, Malloco - Peñaflor
ATTACH;FMTTYPE=image/png:https://elcorreodelasbrujas.cl/wp-content/uploads/2024/11/18-AL-24-NOV-4.png
END:VEVENT
END:VCALENDAR