BEGIN:VCALENDAR
VERSION:2.0
PRODID:-//El Correo de Las Brujas - ECPv6.7.0//NONSGML v1.0//EN
CALSCALE:GREGORIAN
METHOD:PUBLISH
X-WR-CALNAME:El Correo de Las Brujas
X-ORIGINAL-URL:https://elcorreodelasbrujas.cl
X-WR-CALDESC:Eventos para El Correo de Las Brujas
REFRESH-INTERVAL;VALUE=DURATION:PT1H
X-Robots-Tag:noindex
X-PUBLISHED-TTL:PT1H
BEGIN:VTIMEZONE
TZID:America/Sao_Paulo
BEGIN:STANDARD
TZOFFSETFROM:-0300
TZOFFSETTO:-0300
TZNAME:-03
DTSTART:20240101T000000
END:STANDARD
END:VTIMEZONE
BEGIN:VEVENT
DTSTART;TZID=America/Sao_Paulo:20241208T090000
DTEND;TZID=America/Sao_Paulo:20241208T143000
DTSTAMP:20260421T080734
CREATED:20241205T175438Z
LAST-MODIFIED:20241205T182512Z
UID:4116-1733648400-1733668200@elcorreodelasbrujas.cl
SUMMARY:Navidad Activado
DESCRIPTION:Navidad Activado\n\n\n\n\n\n\n\nPlaza de Armas Isla de Maipo
URL:https://elcorreodelasbrujas.cl/evento/navidad-activado/
ATTACH;FMTTYPE=image/png:https://elcorreodelasbrujas.cl/wp-content/uploads/2024/12/imagen-9.png
END:VEVENT
BEGIN:VEVENT
DTSTART;TZID=America/Sao_Paulo:20241208T110000
DTEND;TZID=America/Sao_Paulo:20241208T110000
DTSTAMP:20260421T080734
CREATED:20241205T174117Z
LAST-MODIFIED:20241205T182508Z
UID:4112-1733655600-1733655600@elcorreodelasbrujas.cl
SUMMARY:Showroom Miraflores
DESCRIPTION:Showroom Miraflores\n\n\n\n\n\nPlaza de Miraflores con Rodolfo Zahlhaas\,Valles de Peñaflor
URL:https://elcorreodelasbrujas.cl/evento/showroom-miraflores-8/
ATTACH;FMTTYPE=image/png:https://elcorreodelasbrujas.cl/wp-content/uploads/2024/12/imagen-7.png
END:VEVENT
BEGIN:VEVENT
DTSTART;TZID=America/Sao_Paulo:20241208T120000
DTEND;TZID=America/Sao_Paulo:20241208T180000
DTSTAMP:20260421T080734
CREATED:20241205T180200Z
LAST-MODIFIED:20241205T180203Z
UID:4124-1733659200-1733680800@elcorreodelasbrujas.cl
SUMMARY:Mercadito Terra Matter
DESCRIPTION:Mercadito Terra Matter\n\n\n\nEmprendedores de la zona con los más auténticos regalos para esta Navidad
URL:https://elcorreodelasbrujas.cl/evento/mercadito-terra-matter-2/
LOCATION:ViñaTerra Mater\, Avenida Balmaceda #4900.\, Isla de Maipo
ATTACH;FMTTYPE=image/png:https://elcorreodelasbrujas.cl/wp-content/uploads/2024/12/imagen-4.png
END:VEVENT
BEGIN:VEVENT
DTSTART;TZID=America/Sao_Paulo:20241208T180000
DTEND;TZID=America/Sao_Paulo:20241208T200000
DTSTAMP:20260421T080734
CREATED:20241205T141431Z
LAST-MODIFIED:20241205T141435Z
UID:4086-1733680800-1733688000@elcorreodelasbrujas.cl
SUMMARY:Chile Gospel
DESCRIPTION:Chile Gospel en Isla de Maipo – Abraza la Navidad\n\n\n\nConcierto dedicado a los mejores villancicos de Navidad\, desde los clásicos hasta lo más modernos. Encendido del Árbol \n\n\n\n \n\n\n\n\n\n\n\nPlaza Central Isla de Maipo
URL:https://elcorreodelasbrujas.cl/evento/chile-gospel/
ATTACH;FMTTYPE=image/png:https://elcorreodelasbrujas.cl/wp-content/uploads/2024/12/imagen.png
END:VEVENT
BEGIN:VEVENT
DTSTART;TZID=America/Sao_Paulo:20241208T183000
DTEND;TZID=America/Sao_Paulo:20241223T230000
DTSTAMP:20260421T080734
CREATED:20241121T001721Z
LAST-MODIFIED:20241212T144509Z
UID:3817-1733682600-1734994800@elcorreodelasbrujas.cl
SUMMARY:Feria Navideña
DESCRIPTION:Feria Navideña\n\n\n\n\n\n\n\n\n\nManuel Rodríguez paradero 5 Calera de Tango
URL:https://elcorreodelasbrujas.cl/evento/feria-navidena/
ATTACH;FMTTYPE=image/jpeg:https://elcorreodelasbrujas.cl/wp-content/uploads/2024/11/Imagen-de-WhatsApp-2024-11-19-a-las-18.33.13_4fca7b95.jpg
END:VEVENT
END:VCALENDAR