BEGIN:VCALENDAR
VERSION:2.0
PRODID:-//El Correo de Las Brujas - ECPv6.7.0//NONSGML v1.0//EN
CALSCALE:GREGORIAN
METHOD:PUBLISH
X-ORIGINAL-URL:https://elcorreodelasbrujas.cl
X-WR-CALDESC:Eventos para El Correo de Las Brujas
REFRESH-INTERVAL;VALUE=DURATION:PT1H
X-Robots-Tag:noindex
X-PUBLISHED-TTL:PT1H
BEGIN:VTIMEZONE
TZID:America/Sao_Paulo
BEGIN:STANDARD
TZOFFSETFROM:-0300
TZOFFSETTO:-0300
TZNAME:-03
DTSTART:20240101T000000
END:STANDARD
END:VTIMEZONE
BEGIN:VEVENT
DTSTART;TZID=America/Sao_Paulo:20241228T200000
DTEND;TZID=America/Sao_Paulo:20241228T233000
DTSTAMP:20260421T065421
CREATED:20241226T235937Z
LAST-MODIFIED:20241227T001440Z
UID:4359-1735416000-1735428600@elcorreodelasbrujas.cl
SUMMARY:125 Aniversario Isla de Maipo
DESCRIPTION:125 Aniversario Isla de Maipo – Jornada cultural y musical\n\n\n\n\n\n\n\nPlaza Central Isla de Maipo
URL:https://elcorreodelasbrujas.cl/evento/125-aniversario-isla-de-maipo/
ATTACH;FMTTYPE=image/png:https://elcorreodelasbrujas.cl/wp-content/uploads/2024/12/imagen-41.png
END:VEVENT
BEGIN:VEVENT
DTSTART;TZID=America/Sao_Paulo:20241228T210000
DTEND;TZID=America/Sao_Paulo:20241228T233000
DTSTAMP:20260421T065421
CREATED:20241227T003845Z
LAST-MODIFIED:20241227T003849Z
UID:4377-1735419600-1735428600@elcorreodelasbrujas.cl
SUMMARY:Rock latino - Gonzalo Tapia
DESCRIPTION:Rock latino – Gonzalo Tapia
URL:https://elcorreodelasbrujas.cl/evento/rock-latino-gonzalo-tapia/
LOCATION:Pasaporte\, Avenida Balmaceda #1940\, Malloco - Peñaflor
ATTACH;FMTTYPE=image/png:https://elcorreodelasbrujas.cl/wp-content/uploads/2024/12/imagen-45.png
END:VEVENT
END:VCALENDAR