BEGIN:VCALENDAR
VERSION:2.0
PRODID:-//El Correo de Las Brujas - ECPv6.7.0//NONSGML v1.0//EN
CALSCALE:GREGORIAN
METHOD:PUBLISH
X-WR-CALNAME:El Correo de Las Brujas
X-ORIGINAL-URL:https://elcorreodelasbrujas.cl
X-WR-CALDESC:Eventos para El Correo de Las Brujas
REFRESH-INTERVAL;VALUE=DURATION:PT1H
X-Robots-Tag:noindex
X-PUBLISHED-TTL:PT1H
BEGIN:VTIMEZONE
TZID:America/Sao_Paulo
BEGIN:STANDARD
TZOFFSETFROM:-0300
TZOFFSETTO:-0300
TZNAME:-03
DTSTART:20240101T000000
END:STANDARD
END:VTIMEZONE
BEGIN:VEVENT
DTSTART;TZID=America/Sao_Paulo:20241231T000000
DTEND;TZID=America/Sao_Paulo:20241231T040000
DTSTAMP:20260421T045839
CREATED:20241226T230440Z
LAST-MODIFIED:20241226T230821Z
UID:4344-1735603200-1735617600@elcorreodelasbrujas.cl
SUMMARY:FIESTA DE AÑO NUEVO
DESCRIPTION: fiesta Full Bailable
URL:https://elcorreodelasbrujas.cl/evento/fiesta-de-ano-nuevo/
LOCATION:Kinta Sala\, Av 21 de Mayo 1405\, Talagante
ATTACH;FMTTYPE=image/png:https://elcorreodelasbrujas.cl/wp-content/uploads/2024/12/imagen-38.png
END:VEVENT
END:VCALENDAR