BEGIN:VCALENDAR
VERSION:2.0
PRODID:-//El Correo de Las Brujas - ECPv6.7.0//NONSGML v1.0//EN
CALSCALE:GREGORIAN
METHOD:PUBLISH
X-ORIGINAL-URL:https://elcorreodelasbrujas.cl
X-WR-CALDESC:Eventos para El Correo de Las Brujas
REFRESH-INTERVAL;VALUE=DURATION:PT1H
X-Robots-Tag:noindex
X-PUBLISHED-TTL:PT1H
BEGIN:VTIMEZONE
TZID:America/Sao_Paulo
BEGIN:STANDARD
TZOFFSETFROM:-0300
TZOFFSETTO:-0300
TZNAME:-03
DTSTART:20250101T000000
END:STANDARD
END:VTIMEZONE
BEGIN:VEVENT
DTSTART;TZID=America/Sao_Paulo:20250103T210000
DTEND;TZID=America/Sao_Paulo:20250103T230000
DTSTAMP:20260421T050006
CREATED:20241227T000509Z
LAST-MODIFIED:20241227T002124Z
UID:4364-1735938000-1735945200@elcorreodelasbrujas.cl
SUMMARY:Fabián y los bandoleros del corazón
DESCRIPTION:Fabián y los bandoleros del corazón
URL:https://elcorreodelasbrujas.cl/evento/fabian-y-los-bandoleros-del-corazon-2/
LOCATION:Kinta Sala\, Av 21 de Mayo 1405\, Talagante
ATTACH;FMTTYPE=image/png:https://elcorreodelasbrujas.cl/wp-content/uploads/2024/12/imagen-42.png
END:VEVENT
BEGIN:VEVENT
DTSTART;TZID=America/Sao_Paulo:20250103T210000
DTEND;TZID=America/Sao_Paulo:20250103T233000
DTSTAMP:20260421T050006
CREATED:20250103T165938Z
LAST-MODIFIED:20250103T170223Z
UID:4515-1735938000-1735947000@elcorreodelasbrujas.cl
SUMMARY:Soda Eterno tributo a Soda Stereo
DESCRIPTION:Soda Eterno tributo a Soda Stereo
URL:https://elcorreodelasbrujas.cl/evento/soda-eterno-tributo-a-soda-stereo/
LOCATION:Ottofritz Restobar\, Av. Caupolicán 3461 \, Peñaflor
ATTACH;FMTTYPE=image/png:https://elcorreodelasbrujas.cl/wp-content/uploads/2025/01/imagen-5.png
END:VEVENT
END:VCALENDAR