BEGIN:VCALENDAR
VERSION:2.0
PRODID:-//El Correo de Las Brujas - ECPv6.7.0//NONSGML v1.0//EN
CALSCALE:GREGORIAN
METHOD:PUBLISH
X-WR-CALNAME:El Correo de Las Brujas
X-ORIGINAL-URL:https://elcorreodelasbrujas.cl
X-WR-CALDESC:Eventos para El Correo de Las Brujas
REFRESH-INTERVAL;VALUE=DURATION:PT1H
X-Robots-Tag:noindex
X-PUBLISHED-TTL:PT1H
BEGIN:VTIMEZONE
TZID:America/Sao_Paulo
BEGIN:STANDARD
TZOFFSETFROM:-0300
TZOFFSETTO:-0300
TZNAME:-03
DTSTART:20250101T000000
END:STANDARD
END:VTIMEZONE
BEGIN:VEVENT
DTSTART;TZID=America/Sao_Paulo:20250111T120000
DTEND;TZID=America/Sao_Paulo:20250111T183000
DTSTAMP:20260423T055654
CREATED:20250110T155707Z
LAST-MODIFIED:20250110T155710Z
UID:4667-1736596800-1736620200@elcorreodelasbrujas.cl
SUMMARY:Mercadito Terra Mater
DESCRIPTION:Mercadito Terra Mater
URL:https://elcorreodelasbrujas.cl/evento/mercadito-terra-mater-2/
LOCATION:ViñaTerra Mater\, Avenida Balmaceda #4900.\, Isla de Maipo
ATTACH;FMTTYPE=image/png:https://elcorreodelasbrujas.cl/wp-content/uploads/2025/01/imagen-9.png
END:VEVENT
BEGIN:VEVENT
DTSTART;TZID=America/Sao_Paulo:20250111T170000
DTEND;TZID=America/Sao_Paulo:20250111T200000
DTSTAMP:20260423T055654
CREATED:20250110T145711Z
LAST-MODIFIED:20250110T145716Z
UID:4655-1736614800-1736625600@elcorreodelasbrujas.cl
SUMMARY:Primera Eco Feria OAT 2025
DESCRIPTION:Eco Feria Organización de Artesanos y Terapeutas de Isla de Maipo \n\n\n\n\n\n\n\nPlaza Central Isla de Maipo
URL:https://elcorreodelasbrujas.cl/evento/primera-eco-feria-oat-2025/
ATTACH;FMTTYPE=image/png:https://elcorreodelasbrujas.cl/wp-content/uploads/2025/01/imagen-7.png
END:VEVENT
BEGIN:VEVENT
DTSTART;TZID=America/Sao_Paulo:20250111T170000
DTEND;TZID=America/Sao_Paulo:20250111T233000
DTSTAMP:20260423T055654
CREATED:20250103T145025Z
LAST-MODIFIED:20250103T145309Z
UID:4495-1736614800-1736638200@elcorreodelasbrujas.cl
SUMMARY:Festival del Verano - Talagante
DESCRIPTION:Festival del Verano – Talagante\n\n\n\n\n\n\n\n\n\nEsmeralda esquina República. Talagante
URL:https://elcorreodelasbrujas.cl/evento/festival-del-verano-talagante/
ATTACH;FMTTYPE=image/png:https://elcorreodelasbrujas.cl/wp-content/uploads/2025/01/imagen-3.png
END:VEVENT
BEGIN:VEVENT
DTSTART;TZID=America/Sao_Paulo:20250111T200000
DTEND;TZID=America/Sao_Paulo:20250111T233000
DTSTAMP:20260423T055654
CREATED:20250110T154242Z
LAST-MODIFIED:20250110T154957Z
UID:4660-1736625600-1736638200@elcorreodelasbrujas.cl
SUMMARY:Tributo a Fito Páez
DESCRIPTION:Tributo a Fito Páez
URL:https://elcorreodelasbrujas.cl/evento/tributo-a-fito-paeztributo-a-fito-paeztributo-a-fito-paez/
LOCATION:Ottofritz Restobar\, Av. Caupolicán 3461 \, Peñaflor
ATTACH;FMTTYPE=image/png:https://elcorreodelasbrujas.cl/wp-content/uploads/2025/01/imagen-8.png
END:VEVENT
BEGIN:VEVENT
DTSTART;TZID=America/Sao_Paulo:20250111T210000
DTEND;TZID=America/Sao_Paulo:20250111T233000
DTSTAMP:20260423T055654
CREATED:20250103T150046Z
LAST-MODIFIED:20250103T161722Z
UID:4501-1736629200-1736638200@elcorreodelasbrujas.cl
SUMMARY:The Jotes Band
DESCRIPTION:The Jotes Band
URL:https://elcorreodelasbrujas.cl/evento/the-jotes-band/
LOCATION:Patio cervecero\, Acevedo 220\, Isla De Maipo
ATTACH;FMTTYPE=image/png:https://elcorreodelasbrujas.cl/wp-content/uploads/2025/01/imagen-4.png
END:VEVENT
END:VCALENDAR