BEGIN:VCALENDAR
VERSION:2.0
PRODID:-//El Correo de Las Brujas - ECPv6.7.0//NONSGML v1.0//EN
CALSCALE:GREGORIAN
METHOD:PUBLISH
X-WR-CALNAME:El Correo de Las Brujas
X-ORIGINAL-URL:https://elcorreodelasbrujas.cl
X-WR-CALDESC:Eventos para El Correo de Las Brujas
REFRESH-INTERVAL;VALUE=DURATION:PT1H
X-Robots-Tag:noindex
X-PUBLISHED-TTL:PT1H
BEGIN:VTIMEZONE
TZID:America/Sao_Paulo
BEGIN:STANDARD
TZOFFSETFROM:-0300
TZOFFSETTO:-0300
TZNAME:-03
DTSTART:20250101T000000
END:STANDARD
END:VTIMEZONE
BEGIN:VEVENT
DTSTART;TZID=America/Sao_Paulo:20250112T120000
DTEND;TZID=America/Sao_Paulo:20250112T183000
DTSTAMP:20260421T051911
CREATED:20250110T155535Z
LAST-MODIFIED:20250110T155818Z
UID:4664-1736683200-1736706600@elcorreodelasbrujas.cl
SUMMARY:Mercadito Terra Mater
DESCRIPTION:Mercadito Terra Mater
URL:https://elcorreodelasbrujas.cl/evento/mercadito-terra-mater/
LOCATION:ViñaTerra Mater\, Avenida Balmaceda #4900.\, Isla de Maipo
ATTACH;FMTTYPE=image/png:https://elcorreodelasbrujas.cl/wp-content/uploads/2025/01/imagen-9.png
END:VEVENT
BEGIN:VEVENT
DTSTART;TZID=America/Sao_Paulo:20250112T170000
DTEND;TZID=America/Sao_Paulo:20250112T233000
DTSTAMP:20260421T051911
CREATED:20250103T145604Z
LAST-MODIFIED:20250103T145608Z
UID:4499-1736701200-1736724600@elcorreodelasbrujas.cl
SUMMARY:Festival del Verano - Talagante
DESCRIPTION:Festival del Verano – Talagante\n\n\n\n\n\n\n\n\n\nEsmeralda esquina República. Talagante
URL:https://elcorreodelasbrujas.cl/evento/festival-del-verano-talagante-2/
ATTACH;FMTTYPE=image/png:https://elcorreodelasbrujas.cl/wp-content/uploads/2025/01/imagen-3.png
END:VEVENT
END:VCALENDAR