BEGIN:VCALENDAR
VERSION:2.0
PRODID:-//El Correo de Las Brujas - ECPv6.7.0//NONSGML v1.0//EN
CALSCALE:GREGORIAN
METHOD:PUBLISH
X-ORIGINAL-URL:https://elcorreodelasbrujas.cl
X-WR-CALDESC:Eventos para El Correo de Las Brujas
REFRESH-INTERVAL;VALUE=DURATION:PT1H
X-Robots-Tag:noindex
X-PUBLISHED-TTL:PT1H
BEGIN:VTIMEZONE
TZID:America/Sao_Paulo
BEGIN:STANDARD
TZOFFSETFROM:-0300
TZOFFSETTO:-0300
TZNAME:-03
DTSTART:20250101T000000
END:STANDARD
END:VTIMEZONE
BEGIN:VEVENT
DTSTART;TZID=America/Sao_Paulo:20250117T123000
DTEND;TZID=America/Sao_Paulo:20250117T210000
DTSTAMP:20260421T051643
CREATED:20250117T142314Z
LAST-MODIFIED:20250117T181942Z
UID:4796-1737117000-1737147600@elcorreodelasbrujas.cl
SUMMARY:Expo PET
DESCRIPTION:Expo PET
URL:https://elcorreodelasbrujas.cl/evento/expo-pet/
LOCATION:Barrio Ombú\, Larraín 3157\, Peñaflor
ATTACH;FMTTYPE=image/jpeg:https://elcorreodelasbrujas.cl/wp-content/uploads/2025/01/EXPO-PET.jpg
END:VEVENT
BEGIN:VEVENT
DTSTART;TZID=America/Sao_Paulo:20250117T170000
DTEND;TZID=America/Sao_Paulo:20250117T210000
DTSTAMP:20260421T051643
CREATED:20250117T173049Z
LAST-MODIFIED:20250117T173652Z
UID:4818-1737133200-1737147600@elcorreodelasbrujas.cl
SUMMARY:Día del helado
DESCRIPTION:Día del helado
URL:https://elcorreodelasbrujas.cl/evento/dia-del-helado/
LOCATION:Plaza Peñaflor\, plaza peñaflor
ATTACH;FMTTYPE=image/jpeg:https://elcorreodelasbrujas.cl/wp-content/uploads/2025/01/10.jpg
END:VEVENT
BEGIN:VEVENT
DTSTART;TZID=America/Sao_Paulo:20250117T190000
DTEND;TZID=America/Sao_Paulo:20250117T190000
DTSTAMP:20260421T051643
CREATED:20250117T135848Z
LAST-MODIFIED:20250117T141257Z
UID:4789-1737140400-1737140400@elcorreodelasbrujas.cl
SUMMARY:Bingo a Beneficio
DESCRIPTION:Bingo a Beneficio
URL:https://elcorreodelasbrujas.cl/evento/bingo-a-beneficio/
LOCATION:Espacio Casona\, Parcela Casas Santa Teresa lote 1-A Lonquén\, Isla de Maipo\, Santiago\, Región Metropolitana\, 9790000\, Chile
ATTACH;FMTTYPE=image/jpeg:https://elcorreodelasbrujas.cl/wp-content/uploads/2025/01/BINGO-BENEFICIO.jpg
END:VEVENT
BEGIN:VEVENT
DTSTART;TZID=America/Sao_Paulo:20250117T193000
DTEND;TZID=America/Sao_Paulo:20250117T193000
DTSTAMP:20260421T051643
CREATED:20250117T131429Z
LAST-MODIFIED:20250117T131934Z
UID:4781-1737142200-1737142200@elcorreodelasbrujas.cl
SUMMARY:De Tunas & Estudiantinas
DESCRIPTION:De Tunas & Estudiantinas\n\n\n\n\n\n\n\n\n\nPlaza de Armas de Talagante
URL:https://elcorreodelasbrujas.cl/evento/de-tunas-estudiantinas/
ATTACH;FMTTYPE=image/jpeg:https://elcorreodelasbrujas.cl/wp-content/uploads/2025/01/detunas.jpg
END:VEVENT
BEGIN:VEVENT
DTSTART;TZID=America/Sao_Paulo:20250117T210000
DTEND;TZID=America/Sao_Paulo:20250117T233000
DTSTAMP:20260421T051643
CREATED:20250117T150111Z
LAST-MODIFIED:20250117T174232Z
UID:4801-1737147600-1737156600@elcorreodelasbrujas.cl
SUMMARY:Guerra de Bandas Illusion Girls v/s Kross
DESCRIPTION:Guerra de Bandas Illusion Girls v/s Kross
URL:https://elcorreodelasbrujas.cl/evento/guerra-de-bandas-illusion-girls-v-s-kross/
LOCATION:Ottofritz Restobar\, Av. Caupolicán 3461 \, Peñaflor
ATTACH;FMTTYPE=image/jpeg:https://elcorreodelasbrujas.cl/wp-content/uploads/2025/01/1.jpg
END:VEVENT
BEGIN:VEVENT
DTSTART;TZID=America/Sao_Paulo:20250117T210000
DTEND;TZID=America/Sao_Paulo:20250117T233000
DTSTAMP:20260421T051643
CREATED:20250117T151849Z
LAST-MODIFIED:20250117T173904Z
UID:4806-1737147600-1737156600@elcorreodelasbrujas.cl
SUMMARY:Rock Jovi Tributo a Bon Jovi
DESCRIPTION:Rock Jovi Tributo a Bon Jovi
URL:https://elcorreodelasbrujas.cl/evento/rock-jovi-tributo-a-bon-jovi/
LOCATION:Kinta Sala\, Av 21 de Mayo 1405\, Talagante
ATTACH;FMTTYPE=image/jpeg:https://elcorreodelasbrujas.cl/wp-content/uploads/2025/01/3.jpg
END:VEVENT
BEGIN:VEVENT
DTSTART;TZID=America/Sao_Paulo:20250117T210000
DTEND;TZID=America/Sao_Paulo:20250117T233000
DTSTAMP:20260421T051643
CREATED:20250117T171214Z
LAST-MODIFIED:20250117T174039Z
UID:4813-1737147600-1737156600@elcorreodelasbrujas.cl
SUMMARY:SANTA FERIA - Tributo en vivo
DESCRIPTION:SANTA FERIA – Tributo en vivo
URL:https://elcorreodelasbrujas.cl/evento/santa-feria-tributo-en-vivo/
LOCATION:Kingofbar\, Miraflores 983\, Peñaflor
ATTACH;FMTTYPE=image/jpeg:https://elcorreodelasbrujas.cl/wp-content/uploads/2025/01/7.jpg
END:VEVENT
END:VCALENDAR