BEGIN:VCALENDAR
VERSION:2.0
PRODID:-//El Correo de Las Brujas - ECPv6.7.0//NONSGML v1.0//EN
CALSCALE:GREGORIAN
METHOD:PUBLISH
X-WR-CALNAME:El Correo de Las Brujas
X-ORIGINAL-URL:https://elcorreodelasbrujas.cl
X-WR-CALDESC:Eventos para El Correo de Las Brujas
REFRESH-INTERVAL;VALUE=DURATION:PT1H
X-Robots-Tag:noindex
X-PUBLISHED-TTL:PT1H
BEGIN:VTIMEZONE
TZID:America/Sao_Paulo
BEGIN:STANDARD
TZOFFSETFROM:-0300
TZOFFSETTO:-0300
TZNAME:-03
DTSTART:20250101T000000
END:STANDARD
END:VTIMEZONE
BEGIN:VEVENT
DTSTART;TZID=America/Sao_Paulo:20250124T190000
DTEND;TZID=America/Sao_Paulo:20250124T190000
DTSTAMP:20260421T051114
CREATED:20250124T021511Z
LAST-MODIFIED:20250124T021744Z
UID:4868-1737745200-1737745200@elcorreodelasbrujas.cl
SUMMARY:Festival Folclórico
DESCRIPTION:Festival Folclórico\n\n\n\n\n\n\n\nPlaza de Armas de Talagante
URL:https://elcorreodelasbrujas.cl/evento/festival-folclorico/
ATTACH;FMTTYPE=image/jpeg:https://elcorreodelasbrujas.cl/wp-content/uploads/2025/01/festival-folk.jpg
END:VEVENT
BEGIN:VEVENT
DTSTART;TZID=America/Sao_Paulo:20250124T190000
DTEND;TZID=America/Sao_Paulo:20250124T190000
DTSTAMP:20260421T051114
CREATED:20250124T030421Z
LAST-MODIFIED:20250124T030423Z
UID:4882-1737745200-1737745200@elcorreodelasbrujas.cl
SUMMARY:Isla Bohemia 2
DESCRIPTION:Isla Bohemia 2\n\n\n\n\n\n\n\nPlaza Central de Isla de Maipo
URL:https://elcorreodelasbrujas.cl/evento/isla-bohemia-2/
ATTACH;FMTTYPE=image/jpeg:https://elcorreodelasbrujas.cl/wp-content/uploads/2025/01/islabohemia.jpg
END:VEVENT
BEGIN:VEVENT
DTSTART;TZID=America/Sao_Paulo:20250124T200000
DTEND;TZID=America/Sao_Paulo:20250124T200000
DTSTAMP:20260421T051114
CREATED:20250124T024045Z
LAST-MODIFIED:20250124T024048Z
UID:4874-1737748800-1737748800@elcorreodelasbrujas.cl
SUMMARY:Tributo Steve Perry
DESCRIPTION:Tributo Steve Perry
URL:https://elcorreodelasbrujas.cl/evento/tributo-steve-perry/
LOCATION:Ottofritz Restobar\, Av. Caupolicán 3461 \, Peñaflor
ATTACH;FMTTYPE=image/jpeg:https://elcorreodelasbrujas.cl/wp-content/uploads/2025/01/tributo-nic-perry.jpg
END:VEVENT
BEGIN:VEVENT
DTSTART;TZID=America/Sao_Paulo:20250124T210000
DTEND;TZID=America/Sao_Paulo:20250124T210000
DTSTAMP:20260421T051114
CREATED:20250124T123739Z
LAST-MODIFIED:20250124T123915Z
UID:4896-1737752400-1737752400@elcorreodelasbrujas.cl
SUMMARY:Tributo Los Tres
DESCRIPTION:Tributo Los Tres
URL:https://elcorreodelasbrujas.cl/evento/tributo-los-tres/
LOCATION:Kinta Sala\, Av 21 de Mayo 1405\, Talagante
ATTACH;FMTTYPE=image/jpeg:https://elcorreodelasbrujas.cl/wp-content/uploads/2025/01/lostres.jpg
END:VEVENT
END:VCALENDAR