BEGIN:VCALENDAR
VERSION:2.0
PRODID:-//El Correo de Las Brujas - ECPv6.7.0//NONSGML v1.0//EN
CALSCALE:GREGORIAN
METHOD:PUBLISH
X-ORIGINAL-URL:https://elcorreodelasbrujas.cl
X-WR-CALDESC:Eventos para El Correo de Las Brujas
REFRESH-INTERVAL;VALUE=DURATION:PT1H
X-Robots-Tag:noindex
X-PUBLISHED-TTL:PT1H
BEGIN:VTIMEZONE
TZID:America/Sao_Paulo
BEGIN:STANDARD
TZOFFSETFROM:-0300
TZOFFSETTO:-0300
TZNAME:-03
DTSTART:20250101T000000
END:STANDARD
END:VTIMEZONE
BEGIN:VEVENT
DTSTART;TZID=America/Sao_Paulo:20250126T200000
DTEND;TZID=America/Sao_Paulo:20250126T200000
DTSTAMP:20260421T050007
CREATED:20250124T015901Z
LAST-MODIFIED:20250124T020325Z
UID:4864-1737921600-1737921600@elcorreodelasbrujas.cl
SUMMARY:Obra: El Capote
DESCRIPTION:Obra: El Capote\n\n\n\n\n\n\n\nCentro de Movimientos ArtísticosManuel Rodríguez 723Isla de Maipo
URL:https://elcorreodelasbrujas.cl/evento/obra-el-capote/
ATTACH;FMTTYPE=image/jpeg:https://elcorreodelasbrujas.cl/wp-content/uploads/2025/01/capote.jpg
END:VEVENT
END:VCALENDAR