BEGIN:VCALENDAR
VERSION:2.0
PRODID:-//El Correo de Las Brujas - ECPv6.7.0//NONSGML v1.0//EN
CALSCALE:GREGORIAN
METHOD:PUBLISH
X-ORIGINAL-URL:https://elcorreodelasbrujas.cl
X-WR-CALDESC:Eventos para El Correo de Las Brujas
REFRESH-INTERVAL;VALUE=DURATION:PT1H
X-Robots-Tag:noindex
X-PUBLISHED-TTL:PT1H
BEGIN:VTIMEZONE
TZID:America/Sao_Paulo
BEGIN:STANDARD
TZOFFSETFROM:-0300
TZOFFSETTO:-0300
TZNAME:-03
DTSTART:20250101T000000
END:STANDARD
END:VTIMEZONE
BEGIN:VEVENT
DTSTART;TZID=America/Sao_Paulo:20250130T110000
DTEND;TZID=America/Sao_Paulo:20250131T110000
DTSTAMP:20260421T022228
CREATED:20250124T120139Z
LAST-MODIFIED:20250124T120142Z
UID:4886-1738234800-1738321200@elcorreodelasbrujas.cl
SUMMARY:Torneo Voley Arena
DESCRIPTION:Torneo Voley Arena\n\n\n\n\n\n\n\nRancho Santa InésCamino Santa Inés S/N
URL:https://elcorreodelasbrujas.cl/evento/torneo-voley-arena/
ATTACH;FMTTYPE=image/jpeg:https://elcorreodelasbrujas.cl/wp-content/uploads/2025/01/torneo-voley.jpg
END:VEVENT
END:VCALENDAR