BEGIN:VCALENDAR
VERSION:2.0
PRODID:-//El Correo de Las Brujas - ECPv6.7.0//NONSGML v1.0//EN
CALSCALE:GREGORIAN
METHOD:PUBLISH
X-WR-CALNAME:El Correo de Las Brujas
X-ORIGINAL-URL:https://elcorreodelasbrujas.cl
X-WR-CALDESC:Eventos para El Correo de Las Brujas
REFRESH-INTERVAL;VALUE=DURATION:PT1H
X-Robots-Tag:noindex
X-PUBLISHED-TTL:PT1H
BEGIN:VTIMEZONE
TZID:America/Sao_Paulo
BEGIN:STANDARD
TZOFFSETFROM:-0300
TZOFFSETTO:-0300
TZNAME:-03
DTSTART:20250101T000000
END:STANDARD
END:VTIMEZONE
BEGIN:VEVENT
DTSTART;TZID=America/Sao_Paulo:20250130T110000
DTEND;TZID=America/Sao_Paulo:20250131T110000
DTSTAMP:20260421T034157
CREATED:20250124T120139Z
LAST-MODIFIED:20250124T120142Z
UID:4886-1738234800-1738321200@elcorreodelasbrujas.cl
SUMMARY:Torneo Voley Arena
DESCRIPTION:Torneo Voley Arena\n\n\n\n\n\n\n\nRancho Santa InésCamino Santa Inés S/N
URL:https://elcorreodelasbrujas.cl/evento/torneo-voley-arena/
ATTACH;FMTTYPE=image/jpeg:https://elcorreodelasbrujas.cl/wp-content/uploads/2025/01/torneo-voley.jpg
END:VEVENT
BEGIN:VEVENT
DTSTART;TZID=America/Sao_Paulo:20250131T120000
DTEND;TZID=America/Sao_Paulo:20250131T210000
DTSTAMP:20260421T034157
CREATED:20250131T175354Z
LAST-MODIFIED:20250131T175358Z
UID:4975-1738324800-1738357200@elcorreodelasbrujas.cl
SUMMARY:Expo Gourmet y Bazar
DESCRIPTION:Expo Gourmet y Bazar
URL:https://elcorreodelasbrujas.cl/evento/expo-gourmet-y-bazar/
LOCATION:Barrio Ombú\, Larraín 3157\, Peñaflor
ATTACH;FMTTYPE=image/jpeg:https://elcorreodelasbrujas.cl/wp-content/uploads/2025/01/expoombu.jpg
END:VEVENT
BEGIN:VEVENT
DTSTART;TZID=America/Sao_Paulo:20250131T160000
DTEND;TZID=America/Sao_Paulo:20250131T210000
DTSTAMP:20260421T034157
CREATED:20250131T171340Z
LAST-MODIFIED:20250131T172706Z
UID:4958-1738339200-1738357200@elcorreodelasbrujas.cl
SUMMARY:Verano\, Cerveza y Conversa
DESCRIPTION:Verano\, Cerveza y Conversa
URL:https://elcorreodelasbrujas.cl/evento/verano-cerveza-y-conversa/
LOCATION:Plaza Peñaflor\, plaza peñaflor
ATTACH;FMTTYPE=image/jpeg:https://elcorreodelasbrujas.cl/wp-content/uploads/2025/01/verano-cerveza.jpg
END:VEVENT
BEGIN:VEVENT
DTSTART;TZID=America/Sao_Paulo:20250131T190000
DTEND;TZID=America/Sao_Paulo:20250131T190000
DTSTAMP:20260421T034157
CREATED:20250131T141744Z
LAST-MODIFIED:20250131T141746Z
UID:4934-1738350000-1738350000@elcorreodelasbrujas.cl
SUMMARY:Festival de la Voz de Lonquén
DESCRIPTION:Festival de la Voz de Lonquén\n\n\n\n\n\n\n\nCalle Balmaceda\,Costado Jardín Infantil Harawy
URL:https://elcorreodelasbrujas.cl/evento/festival-de-la-voz-de-lonquen/
ATTACH;FMTTYPE=image/jpeg:https://elcorreodelasbrujas.cl/wp-content/uploads/2025/01/voz-lonquen.jpg
END:VEVENT
BEGIN:VEVENT
DTSTART;TZID=America/Sao_Paulo:20250131T200000
DTEND;TZID=America/Sao_Paulo:20250131T200000
DTSTAMP:20260421T034157
CREATED:20250124T162429Z
LAST-MODIFIED:20250124T162530Z
UID:4913-1738353600-1738353600@elcorreodelasbrujas.cl
SUMMARY:Kurt Carrera
DESCRIPTION:Kurt Carrera
URL:https://elcorreodelasbrujas.cl/evento/kurt-carrera/
LOCATION:Kingofbar\, Miraflores 983\, Peñaflor
ATTACH;FMTTYPE=image/jpeg:https://elcorreodelasbrujas.cl/wp-content/uploads/2025/01/kurt.jpg
END:VEVENT
END:VCALENDAR