BEGIN:VCALENDAR
VERSION:2.0
PRODID:-//El Correo de Las Brujas - ECPv6.7.0//NONSGML v1.0//EN
CALSCALE:GREGORIAN
METHOD:PUBLISH
X-WR-CALNAME:El Correo de Las Brujas
X-ORIGINAL-URL:https://elcorreodelasbrujas.cl
X-WR-CALDESC:Eventos para El Correo de Las Brujas
REFRESH-INTERVAL;VALUE=DURATION:PT1H
X-Robots-Tag:noindex
X-PUBLISHED-TTL:PT1H
BEGIN:VTIMEZONE
TZID:America/Sao_Paulo
BEGIN:STANDARD
TZOFFSETFROM:-0300
TZOFFSETTO:-0300
TZNAME:-03
DTSTART:20250101T000000
END:STANDARD
END:VTIMEZONE
BEGIN:VEVENT
DTSTART;TZID=America/Sao_Paulo:20250202T120000
DTEND;TZID=America/Sao_Paulo:20250202T180000
DTSTAMP:20260421T022115
CREATED:20250131T180204Z
LAST-MODIFIED:20250131T180207Z
UID:4983-1738497600-1738519200@elcorreodelasbrujas.cl
SUMMARY:Mercadito Terra Mater
DESCRIPTION:Mercadito Terra Mater
URL:https://elcorreodelasbrujas.cl/evento/mercadito-terra-mater-4/
LOCATION:ViñaTerra Mater\, Avenida Balmaceda #4900.\, Isla de Maipo
ATTACH;FMTTYPE=image/jpeg:https://elcorreodelasbrujas.cl/wp-content/uploads/2025/01/terra-matter.jpg
END:VEVENT
END:VCALENDAR