BEGIN:VCALENDAR
VERSION:2.0
PRODID:-//El Correo de Las Brujas - ECPv6.7.0//NONSGML v1.0//EN
CALSCALE:GREGORIAN
METHOD:PUBLISH
X-WR-CALNAME:El Correo de Las Brujas
X-ORIGINAL-URL:https://elcorreodelasbrujas.cl
X-WR-CALDESC:Eventos para El Correo de Las Brujas
REFRESH-INTERVAL;VALUE=DURATION:PT1H
X-Robots-Tag:noindex
X-PUBLISHED-TTL:PT1H
BEGIN:VTIMEZONE
TZID:America/Sao_Paulo
BEGIN:STANDARD
TZOFFSETFROM:-0300
TZOFFSETTO:-0300
TZNAME:-03
DTSTART:20250101T000000
END:STANDARD
END:VTIMEZONE
BEGIN:VEVENT
DTSTART;TZID=America/Sao_Paulo:20250209T100000
DTEND;TZID=America/Sao_Paulo:20250209T100000
DTSTAMP:20260421T033032
CREATED:20250207T182447Z
LAST-MODIFIED:20250207T182450Z
UID:5107-1739095200-1739095200@elcorreodelasbrujas.cl
SUMMARY:Ceremonia de Reverencia a los Mil Budas
DESCRIPTION:Ceremonia de Reverencia a los Mil Budas
URL:https://elcorreodelasbrujas.cl/evento/ceremonia-de-reverencia-a-los-mil-budas/
LOCATION:Templo Fo Guang Shan\, Santa Amelia Parcela 8\, Sector El Oliveto\, Camino San José\, Talagante\, Talagante\, Talagante\, Chile
ATTACH;FMTTYPE=image/jpeg:https://elcorreodelasbrujas.cl/wp-content/uploads/2025/02/budas.jpg
END:VEVENT
BEGIN:VEVENT
DTSTART;TZID=America/Sao_Paulo:20250209T200000
DTEND;TZID=America/Sao_Paulo:20250209T200000
DTSTAMP:20260421T033032
CREATED:20250207T173523Z
LAST-MODIFIED:20250207T173708Z
UID:5088-1739131200-1739131200@elcorreodelasbrujas.cl
SUMMARY:Pequelia descubre los colores
DESCRIPTION:Pequelia descubre los colores\n\n\n\n\n\n\n\nPlaza de Lonquén
URL:https://elcorreodelasbrujas.cl/evento/teatro-al-aire-libre-3/
ATTACH;FMTTYPE=image/jpeg:https://elcorreodelasbrujas.cl/wp-content/uploads/2025/02/teatro-libre.jpg
END:VEVENT
END:VCALENDAR