BEGIN:VCALENDAR
VERSION:2.0
PRODID:-//El Correo de Las Brujas - ECPv6.7.0//NONSGML v1.0//EN
CALSCALE:GREGORIAN
METHOD:PUBLISH
X-ORIGINAL-URL:https://elcorreodelasbrujas.cl
X-WR-CALDESC:Eventos para El Correo de Las Brujas
REFRESH-INTERVAL;VALUE=DURATION:PT1H
X-Robots-Tag:noindex
X-PUBLISHED-TTL:PT1H
BEGIN:VTIMEZONE
TZID:America/Sao_Paulo
BEGIN:STANDARD
TZOFFSETFROM:-0300
TZOFFSETTO:-0300
TZNAME:-03
DTSTART:20250101T000000
END:STANDARD
END:VTIMEZONE
BEGIN:VEVENT
DTSTART;TZID=America/Sao_Paulo:20250308T100000
DTEND;TZID=America/Sao_Paulo:20250308T200000
DTSTAMP:20260421T033245
CREATED:20250307T204637Z
LAST-MODIFIED:20250307T204640Z
UID:5233-1741428000-1741464000@elcorreodelasbrujas.cl
SUMMARY:Expo Mujer
DESCRIPTION:Expo Mujer\n\n\n\n\n\n\n\nPlaza de Armas de TalaganteAv Lib\, Bernardo O’Higgins 1130\,TalaganteSantiago\,
URL:https://elcorreodelasbrujas.cl/evento/expo-mujer-2/
ATTACH;FMTTYPE=image/png:https://elcorreodelasbrujas.cl/wp-content/uploads/2025/03/imagen-3.png
END:VEVENT
BEGIN:VEVENT
DTSTART;TZID=America/Sao_Paulo:20250308T100000
DTEND;TZID=America/Sao_Paulo:20250308T200000
DTSTAMP:20260421T033245
CREATED:20250307T222054Z
LAST-MODIFIED:20250307T222059Z
UID:5244-1741428000-1741464000@elcorreodelasbrujas.cl
SUMMARY:Aniversario
DESCRIPTION:Aniversario
URL:https://elcorreodelasbrujas.cl/evento/aniversario/
LOCATION:Ottofritz Restobar\, Av. Caupolicán 3461 \, Peñaflor
ATTACH;FMTTYPE=image/png:https://elcorreodelasbrujas.cl/wp-content/uploads/2025/03/imagen-6.png
END:VEVENT
BEGIN:VEVENT
DTSTART;TZID=America/Sao_Paulo:20250308T180000
DTEND;TZID=America/Sao_Paulo:20250308T230000
DTSTAMP:20260421T033245
CREATED:20250308T005233Z
LAST-MODIFIED:20250308T005236Z
UID:5251-1741456800-1741474800@elcorreodelasbrujas.cl
SUMMARY:Paseo Voces de Mujer
DESCRIPTION:Paseo Voces de Mujer\n\n\n\n\n\n\n\nAv. Santelices\,entre esquinas El Rosario y 21 de Mayo.
URL:https://elcorreodelasbrujas.cl/evento/paseo-voces-de-mujer/
ATTACH;FMTTYPE=image/png:https://elcorreodelasbrujas.cl/wp-content/uploads/2025/03/imagen-9.png
END:VEVENT
END:VCALENDAR