BEGIN:VCALENDAR
VERSION:2.0
PRODID:-//El Correo de Las Brujas - ECPv6.7.0//NONSGML v1.0//EN
CALSCALE:GREGORIAN
METHOD:PUBLISH
X-WR-CALNAME:El Correo de Las Brujas
X-ORIGINAL-URL:https://elcorreodelasbrujas.cl
X-WR-CALDESC:Eventos para El Correo de Las Brujas
REFRESH-INTERVAL;VALUE=DURATION:PT1H
X-Robots-Tag:noindex
X-PUBLISHED-TTL:PT1H
BEGIN:VTIMEZONE
TZID:America/Sao_Paulo
BEGIN:STANDARD
TZOFFSETFROM:-0300
TZOFFSETTO:-0300
TZNAME:-03
DTSTART:20250101T000000
END:STANDARD
END:VTIMEZONE
BEGIN:VEVENT
DTSTART;TZID=America/Sao_Paulo:20250314T200000
DTEND;TZID=America/Sao_Paulo:20250314T200000
DTSTAMP:20260421T005324
CREATED:20250314T214409Z
LAST-MODIFIED:20250314T214549Z
UID:5265-1741982400-1741982400@elcorreodelasbrujas.cl
SUMMARY:San Patricio
DESCRIPTION:San Patricio
URL:https://elcorreodelasbrujas.cl/evento/san-patricio/
LOCATION:Club Demonio\, Peñaflor\, Av Larrain 3157
ATTACH;FMTTYPE=image/png:https://elcorreodelasbrujas.cl/wp-content/uploads/2025/03/imagen-10.png
END:VEVENT
BEGIN:VEVENT
DTSTART;TZID=America/Sao_Paulo:20250314T210000
DTEND;TZID=America/Sao_Paulo:20250314T210000
DTSTAMP:20260421T005324
CREATED:20250314T234733Z
LAST-MODIFIED:20250314T234736Z
UID:5298-1741986000-1741986000@elcorreodelasbrujas.cl
SUMMARY:Tributo Karol G
DESCRIPTION:Tributo Karol G
URL:https://elcorreodelasbrujas.cl/evento/tributo-karol-g-2/
LOCATION:Kingofbar\, Miraflores 983\, Peñaflor
ATTACH;FMTTYPE=image/png:https://elcorreodelasbrujas.cl/wp-content/uploads/2025/03/imagen-12.png
END:VEVENT
BEGIN:VEVENT
DTSTART;TZID=America/Sao_Paulo:20250314T210000
DTEND;TZID=America/Sao_Paulo:20250314T210000
DTSTAMP:20260421T005324
CREATED:20250315T001111Z
LAST-MODIFIED:20250315T001114Z
UID:5310-1741986000-1741986000@elcorreodelasbrujas.cl
SUMMARY:Tributo Américo
DESCRIPTION:Tributo Américo
URL:https://elcorreodelasbrujas.cl/evento/tributo-americo/
LOCATION:Kinta Sala\, Av 21 de Mayo 1405\, Talagante
ATTACH;FMTTYPE=image/png:https://elcorreodelasbrujas.cl/wp-content/uploads/2025/03/imagen-15.png
END:VEVENT
BEGIN:VEVENT
DTSTART;TZID=America/Sao_Paulo:20250314T210000
DTEND;TZID=America/Sao_Paulo:20250314T210000
DTSTAMP:20260421T005324
CREATED:20250315T001743Z
LAST-MODIFIED:20250315T001746Z
UID:5313-1741986000-1741986000@elcorreodelasbrujas.cl
SUMMARY:Tributo Ricardo Arjona
DESCRIPTION:Tributo Ricardo Arjona
URL:https://elcorreodelasbrujas.cl/evento/tributo-ricardo-arjona/
LOCATION:Ottofritz Restobar\, Av. Caupolicán 3461 \, Peñaflor
ATTACH;FMTTYPE=image/png:https://elcorreodelasbrujas.cl/wp-content/uploads/2025/03/imagen-18.png
END:VEVENT
BEGIN:VEVENT
DTSTART;TZID=America/Sao_Paulo:20250314T210000
DTEND;TZID=America/Sao_Paulo:20250314T210000
DTSTAMP:20260421T005324
CREATED:20250315T002540Z
LAST-MODIFIED:20250315T002820Z
UID:5316-1741986000-1741986000@elcorreodelasbrujas.cl
SUMMARY:Tributo Roxette
DESCRIPTION:Tributo Roxette\n\n\n\n\n\n\n\nCarnes Don ChaloPaineRegión Metropolitana
URL:https://elcorreodelasbrujas.cl/evento/tributo-roxette/
ATTACH;FMTTYPE=image/png:https://elcorreodelasbrujas.cl/wp-content/uploads/2025/03/imagen-19.png
END:VEVENT
END:VCALENDAR