BEGIN:VCALENDAR
VERSION:2.0
PRODID:-//El Correo de Las Brujas - ECPv6.7.0//NONSGML v1.0//EN
CALSCALE:GREGORIAN
METHOD:PUBLISH
X-WR-CALNAME:El Correo de Las Brujas
X-ORIGINAL-URL:https://elcorreodelasbrujas.cl
X-WR-CALDESC:Eventos para El Correo de Las Brujas
REFRESH-INTERVAL;VALUE=DURATION:PT1H
X-Robots-Tag:noindex
X-PUBLISHED-TTL:PT1H
BEGIN:VTIMEZONE
TZID:America/Sao_Paulo
BEGIN:STANDARD
TZOFFSETFROM:-0300
TZOFFSETTO:-0300
TZNAME:-03
DTSTART:20250101T000000
END:STANDARD
END:VTIMEZONE
BEGIN:VEVENT
DTSTART;TZID=America/Sao_Paulo:20250322T170000
DTEND;TZID=America/Sao_Paulo:20250322T170000
DTSTAMP:20260421T005313
CREATED:20250321T233544Z
LAST-MODIFIED:20250321T233916Z
UID:5465-1742662800-1742662800@elcorreodelasbrujas.cl
SUMMARY:IV Feria Cromosómica
DESCRIPTION:IV Feria Cromosómica
URL:https://elcorreodelasbrujas.cl/evento/iv-feria-cromosomica/
LOCATION:Plaza de Armas de Talagante\, Av Lib\, Bernardo O'Higgins 1130\, Talagante\, Santiago
ATTACH;FMTTYPE=image/jpeg:https://elcorreodelasbrujas.cl/wp-content/uploads/2025/03/cromosomica.jpg
END:VEVENT
BEGIN:VEVENT
DTSTART;TZID=America/Sao_Paulo:20250322T210000
DTEND;TZID=America/Sao_Paulo:20250322T210000
DTSTAMP:20260421T005313
CREATED:20250321T231433Z
LAST-MODIFIED:20250321T231439Z
UID:5457-1742677200-1742677200@elcorreodelasbrujas.cl
SUMMARY:Entre Salsa y Funk
DESCRIPTION:Entre Salsa y Funk
URL:https://elcorreodelasbrujas.cl/evento/entre-salsa-y-funk/
LOCATION:Kinta Sala\, Av 21 de Mayo 1405\, Talagante
ATTACH;FMTTYPE=image/jpeg:https://elcorreodelasbrujas.cl/wp-content/uploads/2025/03/entre-salsa-funk.jpg
END:VEVENT
END:VCALENDAR