BEGIN:VCALENDAR
VERSION:2.0
PRODID:-//El Correo de Las Brujas - ECPv6.7.0//NONSGML v1.0//EN
CALSCALE:GREGORIAN
METHOD:PUBLISH
X-ORIGINAL-URL:https://elcorreodelasbrujas.cl
X-WR-CALDESC:Eventos para El Correo de Las Brujas
REFRESH-INTERVAL;VALUE=DURATION:PT1H
X-Robots-Tag:noindex
X-PUBLISHED-TTL:PT1H
BEGIN:VTIMEZONE
TZID:America/Sao_Paulo
BEGIN:STANDARD
TZOFFSETFROM:-0300
TZOFFSETTO:-0300
TZNAME:-03
DTSTART:20250101T000000
END:STANDARD
END:VTIMEZONE
BEGIN:VEVENT
DTSTART;TZID=America/Sao_Paulo:20250330T080000
DTEND;TZID=America/Sao_Paulo:20250330T170000
DTSTAMP:20260421T033245
CREATED:20250329T150809Z
LAST-MODIFIED:20250329T152446Z
UID:5581-1743321600-1743354000@elcorreodelasbrujas.cl
SUMMARY:La Fiesta de la Trilla del Poroto en Peñaflor
DESCRIPTION: La Fiesta de la Trilla del Poroto en Peñaflor
URL:https://elcorreodelasbrujas.cl/evento/la-fiesta-de-la-trilla-del-poroto-en-penaflor/
ATTACH;FMTTYPE=image/png:https://elcorreodelasbrujas.cl/wp-content/uploads/2025/03/image-17.png
END:VEVENT
BEGIN:VEVENT
DTSTART;TZID=America/Sao_Paulo:20250330T100000
DTEND;TZID=America/Sao_Paulo:20250330T170000
DTSTAMP:20260421T033245
CREATED:20250329T153800Z
LAST-MODIFIED:20250329T153808Z
UID:5592-1743328800-1743354000@elcorreodelasbrujas.cl
SUMMARY:Ceremonia para conmemorar a los difuntos y antepasados
DESCRIPTION:Ceremonia para conmemorar a los difuntos y antepasados
URL:https://elcorreodelasbrujas.cl/evento/ceremonia-para-conmemorar-a-los-difuntos-y-antepasados/
LOCATION:Templo Fo Guang Shan\, Santa Amelia Parcela 8\, Sector El Oliveto\, Camino San José\, Talagante\, Talagante\, Talagante\, Chile
ATTACH;FMTTYPE=image/png:https://elcorreodelasbrujas.cl/wp-content/uploads/2025/03/image-18.png
END:VEVENT
BEGIN:VEVENT
DTSTART;TZID=America/Sao_Paulo:20250330T110000
DTEND;TZID=America/Sao_Paulo:20250330T170000
DTSTAMP:20260421T033245
CREATED:20250329T154413Z
LAST-MODIFIED:20250329T160153Z
UID:5599-1743332400-1743354000@elcorreodelasbrujas.cl
SUMMARY:Cicletada de la Amistad 2025 - fundación mis amigos
DESCRIPTION:Cicletada de la Amistad 2025 – fundación mis amigos\n\n\n\n\n\n\n\n\n\n\n\n\n\nAvda. Vicuña Mackenna N° 3153\, Peñaflor\, Santiago
URL:https://elcorreodelasbrujas.cl/evento/cicletada-de-la-amistad-2025-fundacion-mis-amigos/
ATTACH;FMTTYPE=image/png:https://elcorreodelasbrujas.cl/wp-content/uploads/2025/03/image-15.png
END:VEVENT
BEGIN:VEVENT
DTSTART;TZID=America/Sao_Paulo:20250330T120000
DTEND;TZID=America/Sao_Paulo:20250330T120000
DTSTAMP:20260421T033245
CREATED:20250314T232145Z
LAST-MODIFIED:20250314T232147Z
UID:5283-1743336000-1743336000@elcorreodelasbrujas.cl
SUMMARY:Entre Parrillas y Copas
DESCRIPTION:Entre Parrillas y Copas\n\n\n\n\n\n\n\nCentro Comunitario San LuisAv. Balmaceda # 13380TalaganteRegión MetropolitanaChile
URL:https://elcorreodelasbrujas.cl/evento/entre-parrillas-y-copas-2/
ATTACH;FMTTYPE=image/jpeg:https://elcorreodelasbrujas.cl/wp-content/uploads/2025/03/parrillas.jpg
END:VEVENT
END:VCALENDAR