BEGIN:VCALENDAR
VERSION:2.0
PRODID:-//El Correo de Las Brujas - ECPv6.7.0//NONSGML v1.0//EN
CALSCALE:GREGORIAN
METHOD:PUBLISH
X-ORIGINAL-URL:https://elcorreodelasbrujas.cl
X-WR-CALDESC:Eventos para El Correo de Las Brujas
REFRESH-INTERVAL;VALUE=DURATION:PT1H
X-Robots-Tag:noindex
X-PUBLISHED-TTL:PT1H
BEGIN:VTIMEZONE
TZID:America/Sao_Paulo
BEGIN:STANDARD
TZOFFSETFROM:-0300
TZOFFSETTO:-0300
TZNAME:-03
DTSTART:20250101T000000
END:STANDARD
END:VTIMEZONE
BEGIN:VEVENT
DTSTART;TZID=America/Sao_Paulo:20250405T100000
DTEND;TZID=America/Sao_Paulo:20250405T233000
DTSTAMP:20260421T005405
CREATED:20250314T220337Z
LAST-MODIFIED:20250314T220738Z
UID:5271-1743847200-1743895800@elcorreodelasbrujas.cl
SUMMARY:Fiesta de la Vendimia
DESCRIPTION:Fiesta de la Vendimia
URL:https://elcorreodelasbrujas.cl/evento/fiesta-de-la-vendimia/
ATTACH;FMTTYPE=image/png:https://elcorreodelasbrujas.cl/wp-content/uploads/2025/03/imagen-11.png
END:VEVENT
END:VCALENDAR