BEGIN:VCALENDAR
VERSION:2.0
PRODID:-//El Correo de Las Brujas - ECPv6.7.0//NONSGML v1.0//EN
CALSCALE:GREGORIAN
METHOD:PUBLISH
X-ORIGINAL-URL:https://elcorreodelasbrujas.cl
X-WR-CALDESC:Eventos para El Correo de Las Brujas
REFRESH-INTERVAL;VALUE=DURATION:PT1H
X-Robots-Tag:noindex
X-PUBLISHED-TTL:PT1H
BEGIN:VTIMEZONE
TZID:America/Sao_Paulo
BEGIN:STANDARD
TZOFFSETFROM:-0300
TZOFFSETTO:-0300
TZNAME:-03
DTSTART:20250101T000000
END:STANDARD
END:VTIMEZONE
BEGIN:VEVENT
DTSTART;TZID=America/Sao_Paulo:20250412T080000
DTEND;TZID=America/Sao_Paulo:20250412T170000
DTSTAMP:20260420T233749
CREATED:20250412T133002Z
LAST-MODIFIED:20250412T133155Z
UID:5858-1744444800-1744477200@elcorreodelasbrujas.cl
SUMMARY:Voltaje show en vivo
DESCRIPTION:Voltaje show en vivo
URL:https://elcorreodelasbrujas.cl/evento/voltaje-show-en-vivo/
LOCATION:Kingofbar\, Miraflores 983\, Peñaflor
ATTACH;FMTTYPE=image/png:https://elcorreodelasbrujas.cl/wp-content/uploads/2025/04/imagen-11.png
END:VEVENT
BEGIN:VEVENT
DTSTART;TZID=America/Sao_Paulo:20250412T080000
DTEND;TZID=America/Sao_Paulo:20250412T170000
DTSTAMP:20260420T233749
CREATED:20250412T134446Z
LAST-MODIFIED:20250412T135918Z
UID:5866-1744444800-1744477200@elcorreodelasbrujas.cl
SUMMARY:Corrida familiar Calera de Tango
DESCRIPTION:Corrida familiar Calera de Tango
URL:https://elcorreodelasbrujas.cl/evento/corrida-familiar-calera-de-tango/
LOCATION:Micipalidad de Calera de Tango\, Av. Calera de Tango 345
ATTACH;FMTTYPE=image/jpeg:https://elcorreodelasbrujas.cl/wp-content/uploads/2025/04/WhatsApp-Image-2025-04-10-at-11.11.33-AM.jpeg
END:VEVENT
BEGIN:VEVENT
DTSTART;TZID=America/Sao_Paulo:20250412T190000
DTEND;TZID=America/Sao_Paulo:20250412T223000
DTSTAMP:20260420T233749
CREATED:20250410T180922Z
LAST-MODIFIED:20250410T182212Z
UID:5806-1744484400-1744497000@elcorreodelasbrujas.cl
SUMMARY:Música en Vivo en Topper's - Banda Zefiro
DESCRIPTION:Música en Vivo en Topper’s – Banda Zefiro\n\n\n\n\n\n\n\nTopper’s Cervecería y Pizzería\n\n\n\nAv. Calera de Tango\, Paradero 3 Calera de Tango Región Metropolitana
URL:https://elcorreodelasbrujas.cl/evento/musica-en-vivo-en-toppers-banda-zefiro/
ATTACH;FMTTYPE=image/jpeg:https://elcorreodelasbrujas.cl/wp-content/uploads/2025/04/WhatsApp-Image-2025-04-10-at-8.43.25-AM.jpeg
END:VEVENT
BEGIN:VEVENT
DTSTART;TZID=America/Sao_Paulo:20250412T210000
DTEND;TZID=America/Sao_Paulo:20250412T233000
DTSTAMP:20260420T233749
CREATED:20250412T133925Z
LAST-MODIFIED:20250412T134017Z
UID:5860-1744491600-1744500600@elcorreodelasbrujas.cl
SUMMARY:Tributo a Selena
DESCRIPTION:Tributo a Selena
URL:https://elcorreodelasbrujas.cl/evento/tributo-a-selena/
LOCATION:Sabores del Mundo\, Calera de Tango paradero 13
ATTACH;FMTTYPE=image/png:https://elcorreodelasbrujas.cl/wp-content/uploads/2025/04/imagen-10.png
END:VEVENT
END:VCALENDAR