BEGIN:VCALENDAR
VERSION:2.0
PRODID:-//El Correo de Las Brujas - ECPv6.7.0//NONSGML v1.0//EN
CALSCALE:GREGORIAN
METHOD:PUBLISH
X-ORIGINAL-URL:https://elcorreodelasbrujas.cl
X-WR-CALDESC:Eventos para El Correo de Las Brujas
REFRESH-INTERVAL;VALUE=DURATION:PT1H
X-Robots-Tag:noindex
X-PUBLISHED-TTL:PT1H
BEGIN:VTIMEZONE
TZID:America/Sao_Paulo
BEGIN:STANDARD
TZOFFSETFROM:-0300
TZOFFSETTO:-0300
TZNAME:-03
DTSTART:20250101T000000
END:STANDARD
END:VTIMEZONE
BEGIN:VEVENT
DTSTART;TZID=America/Sao_Paulo:20250425T190000
DTEND;TZID=America/Sao_Paulo:20250425T223000
DTSTAMP:20260421T005347
CREATED:20250410T182454Z
LAST-MODIFIED:20250410T182932Z
UID:5817-1745607600-1745620200@elcorreodelasbrujas.cl
SUMMARY:Música en Vivo en Topper's
DESCRIPTION:Música en Vivo en Topper’s \n\n\n\n\n\n\n\nTopper’s Cervecería y Pizzería\n\n\n\nAv. Calera de Tango\, Paradero 3 Calera de Tango Región Metropolitana
URL:https://elcorreodelasbrujas.cl/evento/musica-en-vivo-en-toppers-banda-zefiro-copy/
ATTACH;FMTTYPE=image/jpeg:https://elcorreodelasbrujas.cl/wp-content/uploads/2025/04/WhatsApp-Image-2025-04-04-at-9.20.30-AM-1.jpeg
END:VEVENT
BEGIN:VEVENT
DTSTART;TZID=America/Sao_Paulo:20250425T210000
DTEND;TZID=America/Sao_Paulo:20250425T233000
DTSTAMP:20260421T005347
CREATED:20250425T165236Z
LAST-MODIFIED:20250425T165241Z
UID:5975-1745614800-1745623800@elcorreodelasbrujas.cl
SUMMARY:Julio Palacios - cumbia
DESCRIPTION:Julio Palacios – cumbia
URL:https://elcorreodelasbrujas.cl/evento/julio-palacios-cumbia/
LOCATION:Kingofbar\, Miraflores 983\, Peñaflor
ATTACH;FMTTYPE=image/png:https://elcorreodelasbrujas.cl/wp-content/uploads/2025/04/imagen-17.png
END:VEVENT
BEGIN:VEVENT
DTSTART;TZID=America/Sao_Paulo:20250425T210000
DTEND;TZID=America/Sao_Paulo:20250425T233000
DTSTAMP:20260421T005347
CREATED:20250425T200917Z
LAST-MODIFIED:20250425T200924Z
UID:5997-1745614800-1745623800@elcorreodelasbrujas.cl
SUMMARY:Miguel Bosé - Tributo Sebastián Longi
DESCRIPTION:Miguel Bosé – Tributo Sebastián Longi
URL:https://elcorreodelasbrujas.cl/evento/miguel-bose-tributo-sebastian-longi/
LOCATION:Kinta Sala\, Av 21 de Mayo 1405\, Talagante
ATTACH;FMTTYPE=image/png:https://elcorreodelasbrujas.cl/wp-content/uploads/2025/04/imagen-3.png
END:VEVENT
END:VCALENDAR