BEGIN:VCALENDAR
VERSION:2.0
PRODID:-//El Correo de Las Brujas - ECPv6.7.0//NONSGML v1.0//EN
CALSCALE:GREGORIAN
METHOD:PUBLISH
X-WR-CALNAME:El Correo de Las Brujas
X-ORIGINAL-URL:https://elcorreodelasbrujas.cl
X-WR-CALDESC:Eventos para El Correo de Las Brujas
REFRESH-INTERVAL;VALUE=DURATION:PT1H
X-Robots-Tag:noindex
X-PUBLISHED-TTL:PT1H
BEGIN:VTIMEZONE
TZID:America/Sao_Paulo
BEGIN:STANDARD
TZOFFSETFROM:-0300
TZOFFSETTO:-0300
TZNAME:-03
DTSTART:20250101T000000
END:STANDARD
END:VTIMEZONE
BEGIN:VEVENT
DTSTART;TZID=America/Sao_Paulo:20250517T210000
DTEND;TZID=America/Sao_Paulo:20250517T233000
DTSTAMP:20260422T171218
CREATED:20250509T232602Z
LAST-MODIFIED:20250509T232641Z
UID:6060-1747515600-1747524600@elcorreodelasbrujas.cl
SUMMARY:Fabián y los bandoleros del corazón
DESCRIPTION:Fabián y los bandoleros del corazón
URL:https://elcorreodelasbrujas.cl/evento/fabian-y-los-bandoleros-del-corazon-3/
LOCATION:Kinta Sala\, Av 21 de Mayo 1405\, Talagante
ATTACH;FMTTYPE=image/png:https://elcorreodelasbrujas.cl/wp-content/uploads/2025/05/imagen-12.png
END:VEVENT
END:VCALENDAR