BEGIN:VCALENDAR
VERSION:2.0
PRODID:-//El Correo de Las Brujas - ECPv6.7.0//NONSGML v1.0//EN
CALSCALE:GREGORIAN
METHOD:PUBLISH
X-ORIGINAL-URL:https://elcorreodelasbrujas.cl
X-WR-CALDESC:Eventos para El Correo de Las Brujas
REFRESH-INTERVAL;VALUE=DURATION:PT1H
X-Robots-Tag:noindex
X-PUBLISHED-TTL:PT1H
BEGIN:VTIMEZONE
TZID:America/Sao_Paulo
BEGIN:STANDARD
TZOFFSETFROM:-0300
TZOFFSETTO:-0300
TZNAME:-03
DTSTART:20250101T000000
END:STANDARD
END:VTIMEZONE
BEGIN:VEVENT
DTSTART;TZID=America/Sao_Paulo:20250524T100000
DTEND;TZID=America/Sao_Paulo:20250524T170000
DTSTAMP:20260422T225459
CREATED:20250523T215029Z
LAST-MODIFIED:20250523T215034Z
UID:6091-1748080800-1748106000@elcorreodelasbrujas.cl
SUMMARY:Día de los patrimonios en Peñaflor
DESCRIPTION:Día de los patrimonios en Peñaflor
URL:https://elcorreodelasbrujas.cl/evento/dia-de-los-patrimonios-en-penaflor/
LOCATION:Parque El Trapiche\, Manuel Rodríguez\, Peñaflor\, Chile\, santiago\, Chile
ATTACH;FMTTYPE=image/png:https://elcorreodelasbrujas.cl/wp-content/uploads/2025/05/imagen-15.png
END:VEVENT
BEGIN:VEVENT
DTSTART;TZID=America/Sao_Paulo:20250524T103000
DTEND;TZID=America/Sao_Paulo:20250524T170000
DTSTAMP:20260422T225459
CREATED:20250523T214142Z
LAST-MODIFIED:20250523T215335Z
UID:6086-1748082600-1748106000@elcorreodelasbrujas.cl
SUMMARY:Patrimonios en Isla de Maipo
DESCRIPTION:Patrimonios en Isla de Maipo
URL:https://elcorreodelasbrujas.cl/evento/patrimonios-en-isla-de-maipo/
LOCATION:Plaza central Isla de Maipo\, Plaza central Isla de Maipo
ATTACH;FMTTYPE=image/png:https://elcorreodelasbrujas.cl/wp-content/uploads/2025/05/imagen-14.png
END:VEVENT
BEGIN:VEVENT
DTSTART;TZID=America/Sao_Paulo:20250524T190000
DTEND;TZID=America/Sao_Paulo:20250524T223000
DTSTAMP:20260422T225459
CREATED:20250523T153929Z
LAST-MODIFIED:20250523T153933Z
UID:6075-1748113200-1748125800@elcorreodelasbrujas.cl
SUMMARY:Música en Vivo en Topper's
DESCRIPTION:Música en Vivo en Topper’s \n\n\n\n\n\n\n\nTopper’s Cervecería y Pizzería\n\n\n\nAv. Calera de Tango\, Paradero 3 Calera de Tango Región Metropolitana
URL:https://elcorreodelasbrujas.cl/evento/musica-en-vivo-en-toppers-26-2/
ATTACH;FMTTYPE=image/jpeg:https://elcorreodelasbrujas.cl/wp-content/uploads/2025/04/WhatsApp-Image-2025-04-04-at-9.20.30-AM-1.jpeg
END:VEVENT
BEGIN:VEVENT
DTSTART;TZID=America/Sao_Paulo:20250524T190000
DTEND;TZID=America/Sao_Paulo:20250524T223000
DTSTAMP:20260422T225459
CREATED:20250523T223242Z
LAST-MODIFIED:20250523T223248Z
UID:6119-1748113200-1748125800@elcorreodelasbrujas.cl
SUMMARY:Sally música en vivo
DESCRIPTION:Sally música en vivo
URL:https://elcorreodelasbrujas.cl/evento/sally-musica-en-vivo/
LOCATION:Cinema\, Esmeralda 900\, Talagante
END:VEVENT
END:VCALENDAR