BEGIN:VCALENDAR
VERSION:2.0
PRODID:-//El Correo de Las Brujas - ECPv6.7.0//NONSGML v1.0//EN
CALSCALE:GREGORIAN
METHOD:PUBLISH
X-WR-CALNAME:El Correo de Las Brujas
X-ORIGINAL-URL:https://elcorreodelasbrujas.cl
X-WR-CALDESC:Eventos para El Correo de Las Brujas
REFRESH-INTERVAL;VALUE=DURATION:PT1H
X-Robots-Tag:noindex
X-PUBLISHED-TTL:PT1H
BEGIN:VTIMEZONE
TZID:America/Sao_Paulo
BEGIN:STANDARD
TZOFFSETFROM:-0300
TZOFFSETTO:-0300
TZNAME:-03
DTSTART:20250101T000000
END:STANDARD
END:VTIMEZONE
BEGIN:VEVENT
DTSTART;TZID=America/Sao_Paulo:20250525T100000
DTEND;TZID=America/Sao_Paulo:20250525T170000
DTSTAMP:20260423T001219
CREATED:20250523T215556Z
LAST-MODIFIED:20250523T215559Z
UID:6097-1748167200-1748192400@elcorreodelasbrujas.cl
SUMMARY:Día de los patrimonios en Peñaflor
DESCRIPTION:Día de los patrimonios en Peñaflor
URL:https://elcorreodelasbrujas.cl/evento/dia-de-los-patrimonios-en-penaflor-2/
LOCATION:Parque El Trapiche\, Manuel Rodríguez\, Peñaflor\, Chile\, santiago\, Chile
ATTACH;FMTTYPE=image/png:https://elcorreodelasbrujas.cl/wp-content/uploads/2025/05/imagen-15.png
END:VEVENT
BEGIN:VEVENT
DTSTART;TZID=America/Sao_Paulo:20250525T103000
DTEND;TZID=America/Sao_Paulo:20250525T170000
DTSTAMP:20260423T001219
CREATED:20250523T214338Z
LAST-MODIFIED:20250523T214342Z
UID:6089-1748169000-1748192400@elcorreodelasbrujas.cl
SUMMARY:Patrimonios en Isla de Maipo
DESCRIPTION:Patrimonios en Isla de Maipo
URL:https://elcorreodelasbrujas.cl/evento/patrimonios-en-isla-de-maipo-2/
LOCATION:Plaza central Isla de Maipo\, Plaza central Isla de Maipo
ATTACH;FMTTYPE=image/png:https://elcorreodelasbrujas.cl/wp-content/uploads/2025/05/imagen-14.png
END:VEVENT
BEGIN:VEVENT
DTSTART;TZID=America/Sao_Paulo:20250525T140000
DTEND;TZID=America/Sao_Paulo:20250525T170000
DTSTAMP:20260423T001219
CREATED:20250523T220013Z
LAST-MODIFIED:20250523T220505Z
UID:6100-1748181600-1748192400@elcorreodelasbrujas.cl
SUMMARY:Ruta Cretácica Cerro la Campana
DESCRIPTION:Ruta Cretácica Cerro la Campana
URL:https://elcorreodelasbrujas.cl/evento/ruta-cretacica-cerro-la-campana/
LOCATION:Plaza de Armas de Talagante\, Av Lib\, Bernardo O'Higgins 1130\, Talagante\, Santiago
ATTACH;FMTTYPE=image/png:https://elcorreodelasbrujas.cl/wp-content/uploads/2025/05/imagen-16.png
END:VEVENT
BEGIN:VEVENT
DTSTART;TZID=America/Sao_Paulo:20250525T160000
DTEND;TZID=America/Sao_Paulo:20250525T200000
DTSTAMP:20260423T001219
CREATED:20250523T213510Z
LAST-MODIFIED:20250523T213516Z
UID:6081-1748188800-1748203200@elcorreodelasbrujas.cl
SUMMARY:La cueca como patrimonio
DESCRIPTION:La cueca como patrimonio
URL:https://elcorreodelasbrujas.cl/evento/la-cueca-como-patrimonio/
LOCATION:Plaza de Armas de Talagante\, Av Lib\, Bernardo O'Higgins 1130\, Talagante\, Santiago
ATTACH;FMTTYPE=image/png:https://elcorreodelasbrujas.cl/wp-content/uploads/2025/05/imagen-13.png
END:VEVENT
END:VCALENDAR