BEGIN:VCALENDAR
VERSION:2.0
PRODID:-//El Correo de Las Brujas - ECPv6.7.0//NONSGML v1.0//EN
CALSCALE:GREGORIAN
METHOD:PUBLISH
X-ORIGINAL-URL:https://elcorreodelasbrujas.cl
X-WR-CALDESC:Eventos para El Correo de Las Brujas
REFRESH-INTERVAL;VALUE=DURATION:PT1H
X-Robots-Tag:noindex
X-PUBLISHED-TTL:PT1H
BEGIN:VTIMEZONE
TZID:America/Sao_Paulo
BEGIN:STANDARD
TZOFFSETFROM:-0300
TZOFFSETTO:-0300
TZNAME:-03
DTSTART:20250101T000000
END:STANDARD
END:VTIMEZONE
BEGIN:VEVENT
DTSTART;TZID=America/Sao_Paulo:20250801T080000
DTEND;TZID=America/Sao_Paulo:20250801T170000
DTSTAMP:20260423T180358
CREATED:20250802T022027Z
LAST-MODIFIED:20250802T022032Z
UID:6466-1754035200-1754067600@elcorreodelasbrujas.cl
SUMMARY:Gonzalo Tapia música en vivo
DESCRIPTION:Gonzalo Tapia música en vivo
URL:https://elcorreodelasbrujas.cl/evento/gonzalo-tapia-musica-en-vivo/
LOCATION:Pasaporte\, Avenida Balmaceda #1940\, Malloco - Peñaflor
ATTACH;FMTTYPE=image/png:https://elcorreodelasbrujas.cl/wp-content/uploads/2025/08/imagen-5.png
END:VEVENT
BEGIN:VEVENT
DTSTART;TZID=America/Sao_Paulo:20250801T080000
DTEND;TZID=America/Sao_Paulo:20250801T170000
DTSTAMP:20260423T180358
CREATED:20250802T022827Z
LAST-MODIFIED:20250802T022834Z
UID:6472-1754035200-1754067600@elcorreodelasbrujas.cl
SUMMARY:Mercado de Agricultores Isla de Maipo
DESCRIPTION:Mercado de Agricultores Isla de Maipo
URL:https://elcorreodelasbrujas.cl/evento/mercado-de-agricultores-isla-de-maipo/
LOCATION:Plaza central Isla de Maipo\, Plaza central Isla de Maipo
ATTACH;FMTTYPE=image/png:https://elcorreodelasbrujas.cl/wp-content/uploads/2025/08/imagen-7.png
END:VEVENT
BEGIN:VEVENT
DTSTART;TZID=America/Sao_Paulo:20250801T210000
DTEND;TZID=America/Sao_Paulo:20250801T233000
DTSTAMP:20260423T180358
CREATED:20250802T020829Z
LAST-MODIFIED:20250802T020834Z
UID:6453-1754082000-1754091000@elcorreodelasbrujas.cl
SUMMARY:Tributo a Noche de Brujas
DESCRIPTION:Tributo a Noche de Brujas
URL:https://elcorreodelasbrujas.cl/evento/tributo-a-noche-de-brujas/
LOCATION:Kingofbar\, Miraflores 983\, Peñaflor
ATTACH;FMTTYPE=image/png:https://elcorreodelasbrujas.cl/wp-content/uploads/2025/08/imagen-2.png
END:VEVENT
BEGIN:VEVENT
DTSTART;TZID=America/Sao_Paulo:20250801T210000
DTEND;TZID=America/Sao_Paulo:20250801T233000
DTSTAMP:20260423T180358
CREATED:20250802T022348Z
LAST-MODIFIED:20250802T022353Z
UID:6469-1754082000-1754091000@elcorreodelasbrujas.cl
SUMMARY:TRIBUTO A LOS FABULOSOS CADILLACS “SKA DILLAC’S”
DESCRIPTION:TRIBUTO A LOS FABULOSOS CADILLACS “SKA DILLAC’S”
URL:https://elcorreodelasbrujas.cl/evento/tributo-a-los-fabulosos-cadillacs-ska-dillacs/
LOCATION:Kinta Sala\, Av 21 de Mayo 1405\, Talagante
ATTACH;FMTTYPE=image/png:https://elcorreodelasbrujas.cl/wp-content/uploads/2025/08/imagen-6.png
END:VEVENT
END:VCALENDAR