BEGIN:VCALENDAR
VERSION:2.0
PRODID:-//El Correo de Las Brujas - ECPv6.7.0//NONSGML v1.0//EN
CALSCALE:GREGORIAN
METHOD:PUBLISH
X-ORIGINAL-URL:https://elcorreodelasbrujas.cl
X-WR-CALDESC:Eventos para El Correo de Las Brujas
REFRESH-INTERVAL;VALUE=DURATION:PT1H
X-Robots-Tag:noindex
X-PUBLISHED-TTL:PT1H
BEGIN:VTIMEZONE
TZID:America/Sao_Paulo
BEGIN:STANDARD
TZOFFSETFROM:-0300
TZOFFSETTO:-0300
TZNAME:-03
DTSTART:20250101T000000
END:STANDARD
END:VTIMEZONE
BEGIN:VEVENT
DTSTART;TZID=America/Sao_Paulo:20250802T200000
DTEND;TZID=America/Sao_Paulo:20250802T233000
DTSTAMP:20260423T180922
CREATED:20250802T015821Z
LAST-MODIFIED:20250802T015826Z
UID:6446-1754164800-1754177400@elcorreodelasbrujas.cl
SUMMARY:Garras de Amor
DESCRIPTION:Garras de amor
URL:https://elcorreodelasbrujas.cl/evento/garras-de-amor/
LOCATION:Ottofritz Restobar\, Av. Caupolicán 3461 \, Peñaflor
ATTACH;FMTTYPE=image/png:https://elcorreodelasbrujas.cl/wp-content/uploads/2025/08/imagen.png
END:VEVENT
BEGIN:VEVENT
DTSTART;TZID=America/Sao_Paulo:20250802T210000
DTEND;TZID=America/Sao_Paulo:20250802T233000
DTSTAMP:20260423T180922
CREATED:20250802T021139Z
LAST-MODIFIED:20250802T021143Z
UID:6456-1754168400-1754177400@elcorreodelasbrujas.cl
SUMMARY: LOS MUNDIALES DE GORBEA EN VIVO
DESCRIPTION: LOS MUNDIALES DE GORBEA EN VIVO
URL:https://elcorreodelasbrujas.cl/evento/los-mundiales-de-gorbea-en-vivo/
LOCATION:Kingofbar\, Miraflores 983\, Peñaflor
ATTACH;FMTTYPE=image/png:https://elcorreodelasbrujas.cl/wp-content/uploads/2025/08/imagen-3.png
END:VEVENT
BEGIN:VEVENT
DTSTART;TZID=America/Sao_Paulo:20250802T220000
DTEND;TZID=America/Sao_Paulo:20250802T233000
DTSTAMP:20260423T180922
CREATED:20250802T020446Z
LAST-MODIFIED:20250802T020451Z
UID:6449-1754172000-1754177400@elcorreodelasbrujas.cl
SUMMARY:Zepellian
DESCRIPTION:Zepellian
URL:https://elcorreodelasbrujas.cl/evento/zepellian/
LOCATION:Pasaporte\, Avenida Balmaceda #1940\, Malloco - Peñaflor
ATTACH;FMTTYPE=image/png:https://elcorreodelasbrujas.cl/wp-content/uploads/2025/08/imagen-1.png
END:VEVENT
END:VCALENDAR