BEGIN:VCALENDAR
VERSION:2.0
PRODID:-//El Correo de Las Brujas - ECPv6.7.0//NONSGML v1.0//EN
CALSCALE:GREGORIAN
METHOD:PUBLISH
X-ORIGINAL-URL:https://elcorreodelasbrujas.cl
X-WR-CALDESC:Eventos para El Correo de Las Brujas
REFRESH-INTERVAL;VALUE=DURATION:PT1H
X-Robots-Tag:noindex
X-PUBLISHED-TTL:PT1H
BEGIN:VTIMEZONE
TZID:America/Sao_Paulo
BEGIN:STANDARD
TZOFFSETFROM:-0300
TZOFFSETTO:-0300
TZNAME:-03
DTSTART:20250101T000000
END:STANDARD
END:VTIMEZONE
BEGIN:VEVENT
DTSTART;TZID=America/Sao_Paulo:20250808T120000
DTEND;TZID=America/Sao_Paulo:20250808T170000
DTSTAMP:20260423T180920
CREATED:20250809T004803Z
LAST-MODIFIED:20250809T005005Z
UID:6483-1754654400-1754672400@elcorreodelasbrujas.cl
SUMMARY: Expo Sueños y Sonrisas
DESCRIPTION: Expo Sueños y Sonrisas
URL:https://elcorreodelasbrujas.cl/evento/expo-suenos-y-sonrisas/
LOCATION:Plaza de Armas de Talagante\, Av Lib\, Bernardo O'Higgins 1130\, Talagante\, Santiago
ATTACH;FMTTYPE=image/png:https://elcorreodelasbrujas.cl/wp-content/uploads/2025/08/imagen-9.png
END:VEVENT
BEGIN:VEVENT
DTSTART;TZID=America/Sao_Paulo:20250808T210000
DTEND;TZID=America/Sao_Paulo:20250808T233000
DTSTAMP:20260423T180920
CREATED:20250809T013316Z
LAST-MODIFIED:20250809T013320Z
UID:6511-1754686800-1754695800@elcorreodelasbrujas.cl
SUMMARY:Tributo a Christian Nodal
DESCRIPTION:Tributo a Christian Nodal
URL:https://elcorreodelasbrujas.cl/evento/tributo-a-christian-nodal/
LOCATION:Kingofbar\, Miraflores 983\, Peñaflor
ATTACH;FMTTYPE=image/png:https://elcorreodelasbrujas.cl/wp-content/uploads/2025/08/imagen-17.png
END:VEVENT
END:VCALENDAR