BEGIN:VCALENDAR
VERSION:2.0
PRODID:-//El Correo de Las Brujas - ECPv6.7.0//NONSGML v1.0//EN
CALSCALE:GREGORIAN
METHOD:PUBLISH
X-WR-CALNAME:El Correo de Las Brujas
X-ORIGINAL-URL:https://elcorreodelasbrujas.cl
X-WR-CALDESC:Eventos para El Correo de Las Brujas
REFRESH-INTERVAL;VALUE=DURATION:PT1H
X-Robots-Tag:noindex
X-PUBLISHED-TTL:PT1H
BEGIN:VTIMEZONE
TZID:America/Sao_Paulo
BEGIN:STANDARD
TZOFFSETFROM:-0300
TZOFFSETTO:-0300
TZNAME:-03
DTSTART:20250101T000000
END:STANDARD
END:VTIMEZONE
BEGIN:VEVENT
DTSTART;TZID=America/Sao_Paulo:20250809T090000
DTEND;TZID=America/Sao_Paulo:20250809T180000
DTSTAMP:20260423T192759
CREATED:20250809T011314Z
LAST-MODIFIED:20250809T015352Z
UID:6497-1754730000-1754762400@elcorreodelasbrujas.cl
SUMMARY:Feria de Emprendedoras
DESCRIPTION:Feria de Emprendedoras\n\n\n\n\n\n\n\nEstacionamiento supermercado Santa Isabel\, la isla
URL:https://elcorreodelasbrujas.cl/evento/feria-de-emprendedoras-2/
ATTACH;FMTTYPE=image/png:https://elcorreodelasbrujas.cl/wp-content/uploads/2025/08/imagen-13.png
END:VEVENT
BEGIN:VEVENT
DTSTART;TZID=America/Sao_Paulo:20250809T093000
DTEND;TZID=America/Sao_Paulo:20250809T130000
DTSTAMP:20260423T192759
CREATED:20250809T005959Z
LAST-MODIFIED:20250809T010003Z
UID:6490-1754731800-1754744400@elcorreodelasbrujas.cl
SUMMARY:Planta un Bosque para la Infancia
DESCRIPTION:Planta un Bosque para la Infancia\n\n\n\n\n\n\n\n\n\n\n\nJardín Infantil Manitos de Ángel\, Calle Oriente y Central Dos\, Calera de Tango.
URL:https://elcorreodelasbrujas.cl/evento/planta-un-bosque-para-la-infancia/
ATTACH;FMTTYPE=image/png:https://elcorreodelasbrujas.cl/wp-content/uploads/2025/08/imagen-11.png
END:VEVENT
BEGIN:VEVENT
DTSTART;TZID=America/Sao_Paulo:20250809T110000
DTEND;TZID=America/Sao_Paulo:20250809T170000
DTSTAMP:20260423T192759
CREATED:20250809T012819Z
LAST-MODIFIED:20250809T012937Z
UID:6508-1754737200-1754758800@elcorreodelasbrujas.cl
SUMMARY:EXPOKAI
DESCRIPTION:EXPOKAI
URL:https://elcorreodelasbrujas.cl/evento/expokai/
LOCATION:Plaza de Armas de Talagante\, Av Lib\, Bernardo O'Higgins 1130\, Talagante\, Santiago
ATTACH;FMTTYPE=image/png:https://elcorreodelasbrujas.cl/wp-content/uploads/2025/08/imagen-16.png
END:VEVENT
BEGIN:VEVENT
DTSTART;TZID=America/Sao_Paulo:20250809T120000
DTEND;TZID=America/Sao_Paulo:20250809T180000
DTSTAMP:20260423T192759
CREATED:20250809T010528Z
LAST-MODIFIED:20250809T010532Z
UID:6493-1754740800-1754762400@elcorreodelasbrujas.cl
SUMMARY:Mes de la Niñez
DESCRIPTION:Mes de la Niñez
URL:https://elcorreodelasbrujas.cl/evento/mes-de-la-ninez/
LOCATION:Parque El Trapiche\, Manuel Rodríguez\, Peñaflor\, Chile\, santiago\, Chile
ATTACH;FMTTYPE=image/png:https://elcorreodelasbrujas.cl/wp-content/uploads/2025/08/imagen-12.png
END:VEVENT
BEGIN:VEVENT
DTSTART;TZID=America/Sao_Paulo:20250809T120000
DTEND;TZID=America/Sao_Paulo:20250809T183000
DTSTAMP:20260423T192759
CREATED:20250809T012142Z
LAST-MODIFIED:20250809T012147Z
UID:6503-1754740800-1754764200@elcorreodelasbrujas.cl
SUMMARY:Mercadito TerraMater
DESCRIPTION:Mercadito TerraMater
URL:https://elcorreodelasbrujas.cl/evento/mercadito-terramater-4/
LOCATION:ViñaTerra Mater\, Avenida Balmaceda #4900.\, Isla de Maipo
ATTACH;FMTTYPE=image/png:https://elcorreodelasbrujas.cl/wp-content/uploads/2025/08/imagen-15.png
END:VEVENT
BEGIN:VEVENT
DTSTART;TZID=America/Sao_Paulo:20250809T120000
DTEND;TZID=America/Sao_Paulo:20250809T200000
DTSTAMP:20260423T192759
CREATED:20250809T004513Z
LAST-MODIFIED:20250809T004519Z
UID:6478-1754740800-1754769600@elcorreodelasbrujas.cl
SUMMARY:Día de la niñez - islacoopchile
DESCRIPTION:Día de la niñez – islacoopchile\n\n\n\n\n\n\n\nAV. Santelices 427. \nIsla de Maipo
URL:https://elcorreodelasbrujas.cl/evento/dia-de-la-ninez-islacoopchile/
ATTACH;FMTTYPE=image/png:https://elcorreodelasbrujas.cl/wp-content/uploads/2025/08/imagen-8.png
END:VEVENT
BEGIN:VEVENT
DTSTART;TZID=America/Sao_Paulo:20250809T140000
DTEND;TZID=America/Sao_Paulo:20250809T170000
DTSTAMP:20260423T192759
CREATED:20250809T011800Z
LAST-MODIFIED:20250809T011804Z
UID:6500-1754748000-1754758800@elcorreodelasbrujas.cl
SUMMARY:MINI TANGO\, La Ciudad de Tus Sueños
DESCRIPTION:MINI TANGO\, La Ciudad de Tus Sueños
URL:https://elcorreodelasbrujas.cl/evento/mini-tango-la-ciudad-de-tus-suenos/
LOCATION:Estadio Los Bajos\, Calera de Tango Paradero 13
ATTACH;FMTTYPE=image/png:https://elcorreodelasbrujas.cl/wp-content/uploads/2025/08/imagen-14.png
END:VEVENT
BEGIN:VEVENT
DTSTART;TZID=America/Sao_Paulo:20250809T210000
DTEND;TZID=America/Sao_Paulo:20250809T233000
DTSTAMP:20260423T192759
CREATED:20250809T013719Z
LAST-MODIFIED:20250809T013724Z
UID:6514-1754773200-1754782200@elcorreodelasbrujas.cl
SUMMARY: Tributo Oficial a Carin León
DESCRIPTION:Tributo Oficial a Carin León
URL:https://elcorreodelasbrujas.cl/evento/tributo-oficial-a-carin-leon/
LOCATION:Kingofbar\, Miraflores 983\, Peñaflor
ATTACH;FMTTYPE=image/png:https://elcorreodelasbrujas.cl/wp-content/uploads/2025/08/imagen-18.png
END:VEVENT
END:VCALENDAR