BEGIN:VCALENDAR
VERSION:2.0
PRODID:-//El Correo de Las Brujas - ECPv6.7.0//NONSGML v1.0//EN
CALSCALE:GREGORIAN
METHOD:PUBLISH
X-ORIGINAL-URL:https://elcorreodelasbrujas.cl
X-WR-CALDESC:Eventos para El Correo de Las Brujas
REFRESH-INTERVAL;VALUE=DURATION:PT1H
X-Robots-Tag:noindex
X-PUBLISHED-TTL:PT1H
BEGIN:VTIMEZONE
TZID:America/Sao_Paulo
BEGIN:STANDARD
TZOFFSETFROM:-0300
TZOFFSETTO:-0300
TZNAME:-03
DTSTART:20250101T000000
END:STANDARD
END:VTIMEZONE
BEGIN:VEVENT
DTSTART;TZID=America/Sao_Paulo:20250822T210000
DTEND;TZID=America/Sao_Paulo:20250822T233000
DTSTAMP:20260423T180942
CREATED:20250823T010811Z
LAST-MODIFIED:20250823T010816Z
UID:6524-1755896400-1755905400@elcorreodelasbrujas.cl
SUMMARY:Noche de Despechadas 2.0 tributo a Sebastián Yatra
DESCRIPTION:Noche de Despechadas 2.0 tributo a Sebastián Yatra
URL:https://elcorreodelasbrujas.cl/evento/noche-de-despechadas-2-0-tributo-a-sebastian-yatra/
LOCATION:Kinta Sala\, Av 21 de Mayo 1405\, Talagante
ATTACH;FMTTYPE=image/png:https://elcorreodelasbrujas.cl/wp-content/uploads/2025/08/imagen-20.png
END:VEVENT
END:VCALENDAR