BEGIN:VCALENDAR
VERSION:2.0
PRODID:-//El Correo de Las Brujas - ECPv6.7.0//NONSGML v1.0//EN
CALSCALE:GREGORIAN
METHOD:PUBLISH
X-WR-CALNAME:El Correo de Las Brujas
X-ORIGINAL-URL:https://elcorreodelasbrujas.cl
X-WR-CALDESC:Eventos para El Correo de Las Brujas
REFRESH-INTERVAL;VALUE=DURATION:PT1H
X-Robots-Tag:noindex
X-PUBLISHED-TTL:PT1H
BEGIN:VTIMEZONE
TZID:America/Sao_Paulo
BEGIN:STANDARD
TZOFFSETFROM:-0300
TZOFFSETTO:-0300
TZNAME:-03
DTSTART:20250101T000000
END:STANDARD
END:VTIMEZONE
BEGIN:VEVENT
DTSTART;TZID=America/Sao_Paulo:20250829T210000
DTEND;TZID=America/Sao_Paulo:20250829T233000
DTSTAMP:20260423T180231
CREATED:20250823T013625Z
LAST-MODIFIED:20250823T013631Z
UID:6545-1756501200-1756510200@elcorreodelasbrujas.cl
SUMMARY:Trago Amargo tributo Bloque Depresivo
DESCRIPTION:Trago Amargo tributo Bloque Depresivo
URL:https://elcorreodelasbrujas.cl/evento/trago-amargo-tributo-bloque-depresivo/
LOCATION:Kinta Sala\, Av 21 de Mayo 1405\, Talagante
ATTACH;FMTTYPE=image/png:https://elcorreodelasbrujas.cl/wp-content/uploads/2025/08/imagen-26.png
END:VEVENT
BEGIN:VEVENT
DTSTART;TZID=America/Sao_Paulo:20250829T210000
DTEND;TZID=America/Sao_Paulo:20250829T233000
DTSTAMP:20260423T180231
CREATED:20250823T013858Z
LAST-MODIFIED:20250823T013939Z
UID:6549-1756501200-1756510200@elcorreodelasbrujas.cl
SUMMARY:Don Carter
DESCRIPTION:Don Carter
URL:https://elcorreodelasbrujas.cl/evento/don-carter/
LOCATION:Ottofritz Restobar\, Av. Caupolicán 3461 \, Peñaflor
ATTACH;FMTTYPE=image/png:https://elcorreodelasbrujas.cl/wp-content/uploads/2025/08/imagen-27.png
END:VEVENT
END:VCALENDAR