BEGIN:VCALENDAR
VERSION:2.0
PRODID:-//El Correo de Las Brujas - ECPv6.7.0//NONSGML v1.0//EN
CALSCALE:GREGORIAN
METHOD:PUBLISH
X-WR-CALNAME:El Correo de Las Brujas
X-ORIGINAL-URL:https://elcorreodelasbrujas.cl
X-WR-CALDESC:Eventos para El Correo de Las Brujas
REFRESH-INTERVAL;VALUE=DURATION:PT1H
X-Robots-Tag:noindex
X-PUBLISHED-TTL:PT1H
BEGIN:VTIMEZONE
TZID:America/Sao_Paulo
BEGIN:STANDARD
TZOFFSETFROM:-0300
TZOFFSETTO:-0300
TZNAME:-03
DTSTART:20250101T000000
END:STANDARD
END:VTIMEZONE
BEGIN:VEVENT
DTSTART;TZID=America/Sao_Paulo:20250906T130000
DTEND;TZID=America/Sao_Paulo:20250906T170000
DTSTAMP:20260423T162159
CREATED:20250823T011416Z
LAST-MODIFIED:20250823T011419Z
UID:6527-1757163600-1757178000@elcorreodelasbrujas.cl
SUMMARY:3° versión de nuestra fiesta de la chilenidad Lonquenina
DESCRIPTION:3° versión de nuestra fiesta de la chilenidad Lonquenina\n\n\n\n\n\n\n\nCancha Triunfador de lonquén
URL:https://elcorreodelasbrujas.cl/evento/3-version-de-nuestra-fiesta-de-la-chilenidad-lonquenina/
END:VEVENT
BEGIN:VEVENT
DTSTART;TZID=America/Sao_Paulo:20250906T210000
DTEND;TZID=America/Sao_Paulo:20250906T233000
DTSTAMP:20260423T162159
CREATED:20250829T232346Z
LAST-MODIFIED:20250829T232351Z
UID:6587-1757192400-1757201400@elcorreodelasbrujas.cl
SUMMARY:Noche tropical
DESCRIPTION:Noche tropical
URL:https://elcorreodelasbrujas.cl/evento/noche-tropical/
LOCATION:Ottofritz Restobar\, Av. Caupolicán 3461 \, Peñaflor
ATTACH;FMTTYPE=image/png:https://elcorreodelasbrujas.cl/wp-content/uploads/2025/08/imagen-35.png
END:VEVENT
END:VCALENDAR