BEGIN:VCALENDAR
VERSION:2.0
PRODID:-//El Correo de Las Brujas - ECPv6.7.0//NONSGML v1.0//EN
CALSCALE:GREGORIAN
METHOD:PUBLISH
X-WR-CALNAME:El Correo de Las Brujas
X-ORIGINAL-URL:https://elcorreodelasbrujas.cl
X-WR-CALDESC:Eventos para El Correo de Las Brujas
REFRESH-INTERVAL;VALUE=DURATION:PT1H
X-Robots-Tag:noindex
X-PUBLISHED-TTL:PT1H
BEGIN:VTIMEZONE
TZID:America/Sao_Paulo
BEGIN:STANDARD
TZOFFSETFROM:-0300
TZOFFSETTO:-0300
TZNAME:-03
DTSTART:20250101T000000
END:STANDARD
END:VTIMEZONE
BEGIN:VEVENT
DTSTART;TZID=America/Sao_Paulo:20251009T003000
DTEND;TZID=America/Sao_Paulo:20251009T010000
DTSTAMP:20260423T133557
CREATED:20251008T205739Z
LAST-MODIFIED:20251008T205744Z
UID:6604-1759969800-1759971600@elcorreodelasbrujas.cl
SUMMARY:Academia de Mujeres Empresarias
DESCRIPTION:Academia de Mujeres Empresarias
URL:https://elcorreodelasbrujas.cl/evento/academia-de-mujeres-empresarias/
LOCATION:Casa de la Cultura de Talagante\, Av. Bernardo O'Higgins 3201
ATTACH;FMTTYPE=image/png:https://elcorreodelasbrujas.cl/wp-content/uploads/2025/10/image.png
END:VEVENT
BEGIN:VEVENT
DTSTART;TZID=America/Sao_Paulo:20251009T190000
DTEND;TZID=America/Sao_Paulo:20251009T210000
DTSTAMP:20260423T133557
CREATED:20251008T213856Z
LAST-MODIFIED:20251008T214057Z
UID:6628-1760036400-1760043600@elcorreodelasbrujas.cl
SUMMARY:Grandes éxitos del pop
DESCRIPTION:
URL:https://elcorreodelasbrujas.cl/evento/grandes-exitos-del-pop/
LOCATION:Casa de la Cultura de Talagante\, Av. Bernardo O'Higgins 3201
ATTACH;FMTTYPE=image/png:https://elcorreodelasbrujas.cl/wp-content/uploads/2025/10/image-6.png
END:VEVENT
END:VCALENDAR