BEGIN:VCALENDAR
VERSION:2.0
PRODID:-//El Correo de Las Brujas - ECPv6.7.0//NONSGML v1.0//EN
CALSCALE:GREGORIAN
METHOD:PUBLISH
X-WR-CALNAME:El Correo de Las Brujas
X-ORIGINAL-URL:https://elcorreodelasbrujas.cl
X-WR-CALDESC:Eventos para El Correo de Las Brujas
REFRESH-INTERVAL;VALUE=DURATION:PT1H
X-Robots-Tag:noindex
X-PUBLISHED-TTL:PT1H
BEGIN:VTIMEZONE
TZID:America/Sao_Paulo
BEGIN:STANDARD
TZOFFSETFROM:-0300
TZOFFSETTO:-0300
TZNAME:-03
DTSTART:20250101T000000
END:STANDARD
END:VTIMEZONE
BEGIN:VEVENT
DTSTART;TZID=America/Sao_Paulo:20251010T140000
DTEND;TZID=America/Sao_Paulo:20251010T170000
DTSTAMP:20260423T133400
CREATED:20251008T220949Z
LAST-MODIFIED:20251008T222911Z
UID:6641-1760104800-1760115600@elcorreodelasbrujas.cl
SUMMARY:Picnic por la Salud Mental y la Humanización 
DESCRIPTION:Picnic por la Salud Mental y la Humanización 
URL:https://elcorreodelasbrujas.cl/evento/picnic-por-la-salud-mental-y-la-humanizacion/
LOCATION:Estadio Municipal Isla de Maipo\, Av. Jaime Guzmán 840
ATTACH;FMTTYPE=image/png:https://elcorreodelasbrujas.cl/wp-content/uploads/2025/10/image-9.png
END:VEVENT
BEGIN:VEVENT
DTSTART;TZID=America/Sao_Paulo:20251010T193000
DTEND;TZID=America/Sao_Paulo:20251010T213000
DTSTAMP:20260423T133400
CREATED:20251008T222605Z
LAST-MODIFIED:20251008T222751Z
UID:6656-1760124600-1760131800@elcorreodelasbrujas.cl
SUMMARY:Concierto Grandes de Música
DESCRIPTION:Concierto Grandes de Música
URL:https://elcorreodelasbrujas.cl/evento/concierto-grandes-de-musica/
LOCATION:Espacio Peñaflor\, Irarrázabal 085\, Peñaflor\, Chile
ATTACH;FMTTYPE=image/png:https://elcorreodelasbrujas.cl/wp-content/uploads/2025/10/image-11.png
END:VEVENT
BEGIN:VEVENT
DTSTART;TZID=America/Sao_Paulo:20251010T210000
DTEND;TZID=America/Sao_Paulo:20251010T233000
DTSTAMP:20260423T133400
CREATED:20251008T211059Z
LAST-MODIFIED:20251008T211251Z
UID:6614-1760130000-1760139000@elcorreodelasbrujas.cl
SUMMARY:SELENA QUINTANILLA Tributo con Banda en Vivo
DESCRIPTION:SELENA QUINTANILLA Tributo con Banda en Vivo
URL:https://elcorreodelasbrujas.cl/evento/selena-quintanilla-tributo-con-banda-en-vivo/
LOCATION:Kinta Sala\, Av 21 de Mayo 1405\, Talagante
ATTACH;FMTTYPE=image/png:https://elcorreodelasbrujas.cl/wp-content/uploads/2025/10/image-2.png
END:VEVENT
END:VCALENDAR