BEGIN:VCALENDAR
VERSION:2.0
PRODID:-//El Correo de Las Brujas - ECPv6.7.0//NONSGML v1.0//EN
CALSCALE:GREGORIAN
METHOD:PUBLISH
X-WR-CALNAME:El Correo de Las Brujas
X-ORIGINAL-URL:https://elcorreodelasbrujas.cl
X-WR-CALDESC:Eventos para El Correo de Las Brujas
REFRESH-INTERVAL;VALUE=DURATION:PT1H
X-Robots-Tag:noindex
X-PUBLISHED-TTL:PT1H
BEGIN:VTIMEZONE
TZID:America/Sao_Paulo
BEGIN:STANDARD
TZOFFSETFROM:-0300
TZOFFSETTO:-0300
TZNAME:-03
DTSTART:20250101T000000
END:STANDARD
END:VTIMEZONE
BEGIN:VEVENT
DTSTART;TZID=America/Sao_Paulo:20251025T003000
DTEND;TZID=America/Sao_Paulo:20251025T190000
DTSTAMP:20260423T133435
CREATED:20251024T171841Z
LAST-MODIFIED:20251024T171845Z
UID:6753-1761352200-1761418800@elcorreodelasbrujas.cl
SUMMARY:Expo Deportes Peñaflor
DESCRIPTION:Expo Deportes Peñaflor
URL:https://elcorreodelasbrujas.cl/evento/expo-deportes-penaflor/
LOCATION:Parque El Trapiche\, Manuel Rodríguez\, Peñaflor\, Chile\, santiago\, Chile
ATTACH;FMTTYPE=image/png:https://elcorreodelasbrujas.cl/wp-content/uploads/2025/10/image-32.png
END:VEVENT
BEGIN:VEVENT
DTSTART;TZID=America/Sao_Paulo:20251025T140000
DTEND;TZID=America/Sao_Paulo:20251025T210000
DTSTAMP:20260423T133435
CREATED:20251024T164618Z
LAST-MODIFIED:20251024T164625Z
UID:6741-1761400800-1761426000@elcorreodelasbrujas.cl
SUMMARY:Coffe Fest - Peñaflor 2025
DESCRIPTION:Coffe Fest – Peñaflor 2025
URL:https://elcorreodelasbrujas.cl/evento/coffe-fest-penaflor-2025/
LOCATION:Plaza Peñaflor\, plaza peñaflor
ATTACH;FMTTYPE=image/png:https://elcorreodelasbrujas.cl/wp-content/uploads/2025/10/image-28.png
END:VEVENT
BEGIN:VEVENT
DTSTART;TZID=America/Sao_Paulo:20251025T190000
DTEND;TZID=America/Sao_Paulo:20251025T213000
DTSTAMP:20260423T133435
CREATED:20251024T170528Z
LAST-MODIFIED:20251024T170648Z
UID:6747-1761418800-1761427800@elcorreodelasbrujas.cl
SUMMARY:Gala Artística 21 Sueños Down
DESCRIPTION:Gala Artística 21 Sueños Down
URL:https://elcorreodelasbrujas.cl/evento/gala-artistica-21-suenos-down/
LOCATION:Casa de la Cultura de Talagante\, Av. Bernardo O'Higgins 3201
ATTACH;FMTTYPE=image/png:https://elcorreodelasbrujas.cl/wp-content/uploads/2025/10/image-30.png
END:VEVENT
BEGIN:VEVENT
DTSTART;TZID=America/Sao_Paulo:20251025T210000
DTEND;TZID=America/Sao_Paulo:20251025T233000
DTSTAMP:20260423T133435
CREATED:20251024T162415Z
LAST-MODIFIED:20251024T162422Z
UID:6736-1761426000-1761435000@elcorreodelasbrujas.cl
SUMMARY:Stand Up Comedy - Monserrat Jerez
DESCRIPTION:Stand Up Comedy
URL:https://elcorreodelasbrujas.cl/evento/stand-up-comedy-monserrat-jerez/
LOCATION:Club Demonio\, Peñaflor\, Av Larrain 3157
ATTACH;FMTTYPE=image/png:https://elcorreodelasbrujas.cl/wp-content/uploads/2025/10/image-27.png
END:VEVENT
BEGIN:VEVENT
DTSTART;TZID=America/Sao_Paulo:20251025T210000
DTEND;TZID=America/Sao_Paulo:20251025T233000
DTSTAMP:20260423T133435
CREATED:20251024T181012Z
LAST-MODIFIED:20251024T181017Z
UID:6766-1761426000-1761435000@elcorreodelasbrujas.cl
SUMMARY: Tributo en vivo a AGRUPACIÓN MARILYN
DESCRIPTION: Tributo en vivo a AGRUPACIÓN MARILYN
URL:https://elcorreodelasbrujas.cl/evento/tributo-en-vivo-a-agrupacion-marilyn/
LOCATION:Kingofbar\, Miraflores 983\, Peñaflor
ATTACH;FMTTYPE=image/png:https://elcorreodelasbrujas.cl/wp-content/uploads/2025/10/image-36.png
END:VEVENT
BEGIN:VEVENT
DTSTART;TZID=America/Sao_Paulo:20251025T220000
DTEND;TZID=America/Sao_Paulo:20251025T233000
DTSTAMP:20260423T133435
CREATED:20251024T171243Z
LAST-MODIFIED:20251024T171248Z
UID:6750-1761429600-1761435000@elcorreodelasbrujas.cl
SUMMARY:Che Copete
DESCRIPTION:Che Copete
URL:https://elcorreodelasbrujas.cl/evento/che-copete/
LOCATION:Inca Mapu\, Av. Calera de tango - paradero 12
ATTACH;FMTTYPE=image/png:https://elcorreodelasbrujas.cl/wp-content/uploads/2025/10/image-31.png
END:VEVENT
BEGIN:VEVENT
DTSTART;TZID=America/Sao_Paulo:20251025T220000
DTEND;TZID=America/Sao_Paulo:20251025T233000
DTSTAMP:20260423T133435
CREATED:20251024T182704Z
LAST-MODIFIED:20251024T183735Z
UID:6780-1761429600-1761435000@elcorreodelasbrujas.cl
SUMMARY:Huerta · Fabres · Aguilar - Jazz Funk Trío
DESCRIPTION:Huerta · Fabres · Aguilar – Jazz Funk Trío
URL:https://elcorreodelasbrujas.cl/evento/huerta-%c2%b7-fabres-%c2%b7-aguilar-jazz-funk-trio/
LOCATION:Patio cervecero\, Acevedo 220\, Isla De Maipo
ATTACH;FMTTYPE=image/png:https://elcorreodelasbrujas.cl/wp-content/uploads/2025/10/image-39.png
END:VEVENT
END:VCALENDAR