BEGIN:VCALENDAR
VERSION:2.0
PRODID:-//El Correo de Las Brujas - ECPv6.7.0//NONSGML v1.0//EN
CALSCALE:GREGORIAN
METHOD:PUBLISH
X-WR-CALNAME:El Correo de Las Brujas
X-ORIGINAL-URL:https://elcorreodelasbrujas.cl
X-WR-CALDESC:Eventos para El Correo de Las Brujas
REFRESH-INTERVAL;VALUE=DURATION:PT1H
X-Robots-Tag:noindex
X-PUBLISHED-TTL:PT1H
BEGIN:VTIMEZONE
TZID:America/Sao_Paulo
BEGIN:STANDARD
TZOFFSETFROM:-0300
TZOFFSETTO:-0300
TZNAME:-03
DTSTART:20250101T000000
END:STANDARD
END:VTIMEZONE
BEGIN:VEVENT
DTSTART;TZID=America/Sao_Paulo:20251026T100000
DTEND;TZID=America/Sao_Paulo:20251026T170000
DTSTAMP:20260423T133229
CREATED:20251024T182115Z
LAST-MODIFIED:20251024T182122Z
UID:6775-1761472800-1761498000@elcorreodelasbrujas.cl
SUMMARY: Exhibición Tuning 
DESCRIPTION: Exhibición Tuning 
URL:https://elcorreodelasbrujas.cl/evento/exhibicion-tuning/
LOCATION:Parque El Trapiche\, Manuel Rodríguez\, Peñaflor\, Chile\, santiago\, Chile
ATTACH;FMTTYPE=image/png:https://elcorreodelasbrujas.cl/wp-content/uploads/2025/10/image-38.png
END:VEVENT
BEGIN:VEVENT
DTSTART;TZID=America/Sao_Paulo:20251026T163000
DTEND;TZID=America/Sao_Paulo:20251026T210000
DTSTAMP:20260423T133229
CREATED:20251024T165820Z
LAST-MODIFIED:20251024T170104Z
UID:6744-1761496200-1761512400@elcorreodelasbrujas.cl
SUMMARY:Festival de las Artes Creaprende
DESCRIPTION:Festival de las Artes Creaprende
URL:https://elcorreodelasbrujas.cl/evento/festival-de-las-artes-creaprende/
LOCATION:Casa de la Cultura de Talagante\, Av. Bernardo O'Higgins 3201
ATTACH;FMTTYPE=image/png:https://elcorreodelasbrujas.cl/wp-content/uploads/2025/10/image-29.png
END:VEVENT
END:VCALENDAR