BEGIN:VCALENDAR
VERSION:2.0
PRODID:-//El Correo de Las Brujas - ECPv6.7.0//NONSGML v1.0//EN
CALSCALE:GREGORIAN
METHOD:PUBLISH
X-ORIGINAL-URL:https://elcorreodelasbrujas.cl
X-WR-CALDESC:Eventos para El Correo de Las Brujas
REFRESH-INTERVAL;VALUE=DURATION:PT1H
X-Robots-Tag:noindex
X-PUBLISHED-TTL:PT1H
BEGIN:VTIMEZONE
TZID:America/Sao_Paulo
BEGIN:STANDARD
TZOFFSETFROM:-0300
TZOFFSETTO:-0300
TZNAME:-03
DTSTART:20250101T000000
END:STANDARD
END:VTIMEZONE
BEGIN:VEVENT
DTSTART;TZID=America/Sao_Paulo:20251102T130000
DTEND;TZID=America/Sao_Paulo:20251102T210000
DTSTAMP:20260423T122951
CREATED:20251008T222133Z
LAST-MODIFIED:20251008T222136Z
UID:6652-1762088400-1762117200@elcorreodelasbrujas.cl
SUMMARY:20 Oktoberfest
DESCRIPTION:20 Oktoberfest
URL:https://elcorreodelasbrujas.cl/evento/20-oktoberfest-copy-copy-copy/
LOCATION:Centro de Eventos MUNICH\, Av. Balmaceda 2933\, Malloco - Comuna de Peñaflor\, Peñaflor
ATTACH;FMTTYPE=image/png:https://elcorreodelasbrujas.cl/wp-content/uploads/2025/10/image-10.png
END:VEVENT
END:VCALENDAR