BEGIN:VCALENDAR
VERSION:2.0
PRODID:-//El Correo de Las Brujas - ECPv6.7.0//NONSGML v1.0//EN
CALSCALE:GREGORIAN
METHOD:PUBLISH
X-ORIGINAL-URL:https://elcorreodelasbrujas.cl
X-WR-CALDESC:Eventos para El Correo de Las Brujas
REFRESH-INTERVAL;VALUE=DURATION:PT1H
X-Robots-Tag:noindex
X-PUBLISHED-TTL:PT1H
BEGIN:VTIMEZONE
TZID:America/Sao_Paulo
BEGIN:STANDARD
TZOFFSETFROM:-0300
TZOFFSETTO:-0300
TZNAME:-03
DTSTART:20250101T000000
END:STANDARD
END:VTIMEZONE
BEGIN:VEVENT
DTSTART;TZID=America/Sao_Paulo:20251108T003000
DTEND;TZID=America/Sao_Paulo:20251108T010000
DTSTAMP:20260423T122950
CREATED:20251010T220256Z
LAST-MODIFIED:20251010T220342Z
UID:6679-1762561800-1762563600@elcorreodelasbrujas.cl
SUMMARY:XVIII° Talagante Corre 2025
DESCRIPTION:XVIII° Talagante Corre 2025
URL:https://elcorreodelasbrujas.cl/evento/xviii-talagante-corre-2025/
LOCATION:Plaza de Armas de Talagante\, Av Lib\, Bernardo O'Higgins 1130\, Talagante\, Santiago
ATTACH;FMTTYPE=image/png:https://elcorreodelasbrujas.cl/wp-content/uploads/2025/10/image-16.png
END:VEVENT
END:VCALENDAR