BEGIN:VCALENDAR
VERSION:2.0
PRODID:-//El Correo de Las Brujas - ECPv6.7.0//NONSGML v1.0//EN
CALSCALE:GREGORIAN
METHOD:PUBLISH
X-ORIGINAL-URL:https://elcorreodelasbrujas.cl
X-WR-CALDESC:Eventos para El Correo de Las Brujas
REFRESH-INTERVAL;VALUE=DURATION:PT1H
X-Robots-Tag:noindex
X-PUBLISHED-TTL:PT1H
BEGIN:VTIMEZONE
TZID:America/Sao_Paulo
BEGIN:STANDARD
TZOFFSETFROM:-0300
TZOFFSETTO:-0300
TZNAME:-03
DTSTART:20240101T000000
END:STANDARD
END:VTIMEZONE
BEGIN:VEVENT
DTSTART;TZID=America/Sao_Paulo:20240402T080000
DTEND;TZID=America/Sao_Paulo:20240402T170000
DTSTAMP:20260421T155331
CREATED:20240402T222429Z
LAST-MODIFIED:20240402T224542Z
UID:424-1712044800-1712077200@elcorreodelasbrujas.cl
SUMMARY:tester
DESCRIPTION:
URL:https://elcorreodelasbrujas.cl/evento/tester/
ATTACH;FMTTYPE=image/png:https://elcorreodelasbrujas.cl/wp-content/uploads/2024/04/rayos-y-centellas-logo-color-1.png
END:VEVENT
BEGIN:VEVENT
DTSTART;TZID=America/Sao_Paulo:20240402T230000
DTEND;TZID=America/Sao_Paulo:20240402T233000
DTSTAMP:20260421T155331
CREATED:20240402T225507Z
LAST-MODIFIED:20240402T225618Z
UID:446-1712098800-1712100600@elcorreodelasbrujas.cl
SUMMARY:Mujeres
DESCRIPTION:¡Celebremos la fuerza\, la pasión y el poder de las mujeres en nuestro próximo evento! Es un honor invitarles a unirse a nosotros en un encuentro que celebra el impacto y la contribución invaluable de las mujeres en todos los ámbitos de la vida. Este evento es más que una reunión; es un espacio para inspirar\, empoderar y conectarnos como comunidad. \nDesde líderes empresariales hasta activistas\, artistas y educadoras\, las mujeres están liderando el camino hacia un futuro más inclusivo y equitativo. Este evento es una oportunidad para celebrar sus logros\, compartir historias inspiradoras y fortalecer nuestras conexiones para construir un mundo donde todas las mujeres puedan alcanzar su máximo potencial. \nÚnete a nosotros mientras honramos el legado de las mujeres que nos han precedido\, celebramos los éxitos del presente y nos comprometemos a seguir luchando por un futuro más brillante y justo para todas. ¡Juntas somos imparables!
URL:https://elcorreodelasbrujas.cl/evento/mujeres/
ATTACH;FMTTYPE=image/jpeg:https://elcorreodelasbrujas.cl/wp-content/uploads/2024/04/Imagen-1.jpg
END:VEVENT
BEGIN:VEVENT
DTSTART;TZID=America/Sao_Paulo:20240419T210000
DTEND;TZID=America/Sao_Paulo:20240419T230000
DTSTAMP:20260421T155331
CREATED:20240417T234503Z
LAST-MODIFIED:20240417T234503Z
UID:498-1713560400-1713567600@elcorreodelasbrujas.cl
SUMMARY:Tributo a Soda Stereo - Ale Cerati
DESCRIPTION:¡Vive una noche épica de rock en Bar Inglés Casa Tudor! 🎸 \nEste 19 de abril\, prepárate para ser transportado al mundo de la música con uno de los mejores tributos a la legendaria banda de rock latino\, Soda Stereo. En una noche comandada por @alecerati y Hector Ferrer\, como Zeta Bosio\, te espera un espectáculo que te dejará sin aliento. \nNo te pierdas esta oportunidad única de revivir los éxitos más icónicos de los 80 y corear junto a nosotros “De Música Ligera” y todos los clásicos que marcaron una época. \n¡Las magníficas noches de impacto continúan en Bar Inglés durante abril! Asegura tu entrada ahora mismo a través de Vesti.cl o contáctanos vía WhatsApp al +569 7399 0440. \n¿Estás listo para una experiencia inolvidable? ¡Te esperamos para celebrar la música en grande! De antemano\, ¡gracias totales! \n🍹 Tragos y Carta especial de Bar Inglés :Una completa selección de nuestro chef para que disfrutes una noche especial.\n⠀⠀⠀⠀⠀⠀⠀⠀⠀\n🎟 Cupos Limitados: Asegura tu lugar con tiempo. \nEntradas general: $12.000\nVenta de entradas a través de VESTI\n⠀⠀⠀⠀⠀⠀⠀⠀⠀\n📞 Reserva tu Mesa: Una vez adquirida(s) tu(s) entrada(s) Reserva tu mesa en el +56 9 7399 0440 \n*Evento para mayores de 18 años.\n*Evento se realizará en salón principal de Casa Tudor.
URL:https://elcorreodelasbrujas.cl/evento/tributo-a-soda-stereo-ale-cerati/
LOCATION:Bar Inglés – Casa Tudor\, El Oliveto\, talagante\, Metropolitana\, Talagante\, Chile
ATTACH;FMTTYPE=image/jpeg:https://elcorreodelasbrujas.cl/wp-content/uploads/2024/04/Tributo-a-soda-.jpeg
END:VEVENT
END:VCALENDAR